Workbook

Sheet Read Me
B10: File: | C10: {=MID(CELL("filename",A1),FIND("[",CELL("filename",A1))+1,FIND("]", CELL("filename",A1))-FIND("[",CELL("filename",A1))-1)} -> Liq_Model_PartC_v1.xlsx
B11: Version: | C11: 1

Sheet Bottom Up (C)
A1: Capitalization Table Summary
B3: Shareholdings: | C3: Modeled Shares | D3: Shares (per Cap Table) | E3: Difference | F3: FD Ownership %
B4: (placeholder) | C4: 0 | D4: 0 | E4: =C4-D4 -> 0 | F4: =D4/$D$14 -> 0
B5: Series C | C5: 3000000 | D5: 3000000 | E5: =C5-D5 -> 0 | F5: =D5/$D$14 -> 0.16666667
B6: Series B | C6: 2500000 | D6: 2500000 | E6: =C6-D6 -> 0 | F6: =D6/$D$14 -> 0.13888889
B7: Series A | C7: 2500000 | D7: 2500000 | E7: =C7-D7 -> 0 | F7: =D7/$D$14 -> 0.13888889
B8: Common | C8: 7500000 | D8: 7500000 | E8: =C8-D8 -> 0 | F8: =D8/$D$14 -> 0.41666667
B9: Common Options Z | C9: 500000 | D9: 500000 | E9: =C9-D9 -> 0 | F9: =D9/$D$14 -> 0.027777778
B10: Common Options Y | C10: 500000 | D10: 500000 | E10: =C10-D10 -> 0 | F10: =D10/$D$14 -> 0.027777778
B11: Common Options X | C11: 500000 | D11: 500000 | E11: =C11-D11 -> 0 | F11: =D11/$D$14 -> 0.027777778
B12: Subtotal (Issued and Outstanding) | C12: =SUM(C4:C11) -> 17000000 | D12: =SUM(D4:D11) -> 17000000 | E12: =SUM(E4:E11) -> 0 | F12: =SUM(F4:F11) -> 0.94444444
B13: Common Options (Remaining for issuance) | C13: 1000000 | D13: 1000000 | E13: =C13-D13 -> 0 | F13: =D13/$D$14 -> 0.055555556
B14: Total (Fully Diluted Shares) | C14: =C12+C13 -> 18000000 | D14: =D12+D13 -> 18000000 | E14: =C14-D14 -> 0 | F14: =+F12+F13 -> 1
A17: Equity Parameters
B19: Equity | C19: Shares Issued and Outstanding | D19: Ownership % | E19: Original Issue Price | F19: Investment | G19: Liquidation Multiple | H19: Liquidation Preference Amount | I19: Warrant/Option Strike Price | J19: Breakpoint Price per Common Share
B20: (placeholder) | C20: =C4 -> 0 | D20: =C20/$C$29 -> 0
B21: Series C | C21: =C5 -> 3000000 | D21: =C21/$C$29 -> 0.16666667 | E21: =IFERROR(F21/C21,0) -> 20 | F21: 60000000 | G21: 1 | H21: =C21*E21*G21 -> 60000000 | J21: =+H21/C21 -> 20
B22: Series B | C22: =C6 -> 2500000 | D22: =C22/$C$29 -> 0.13888889 | E22: =IFERROR(F22/C22,0) -> 6 | F22: 15000000 | G22: 1 | H22: =C22*E22*G22 -> 15000000 | J22: =+H22/C22 -> 6
B23: Series A | C23: =C7 -> 2500000 | D23: =C23/$C$29 -> 0.13888889 | E23: =IFERROR(F23/C23,0) -> 2 | F23: 5000000 | G23: 1 | H23: =C23*E23*G23 -> 5000000 | J23: =+H23/C23 -> 2
B24: Common | C24: =C8 -> 7500000 | D24: =C24/$C$29 -> 0.41666667
B25: Common Options Z | C25: =+C9 -> 500000 | I25: 2 | J25: =I25 -> 2
B26: Common Options Y | C26: =+C10 -> 500000 | I26: 4 | J26: =I26 -> 4
B27: Common Options X | C27: =+C11 -> 500000 | I27: 6 | J27: =I27 -> 6
B28: Common Options R | C28: =+C13 -> 1000000 | D28: =C28/$C$29 -> 0.055555556 | I28: 20 | J28: =I28 -> 20
B29: Equity Total | C29: =SUM(C21:C28) -> 18000000 | D29: =SUM(D21:D28) -> 0.91666667 | F29: =SUM(F21:F28) -> 80000000 | H29: =SUM(H21:H28) -> 80000000
A32: Liquidation Model
C33: 1 | D33: 2 | E33: 3 | F33: 4 | G33: 5 | H33: 6 | I33: 7 | J33: 8 | K33: 9 | L33: 10 | M33: 11 | N33: 12
B34: Sale Price | C34: 0 | D34: 20000000 | E34: =E41-E39 -> 80000000 | F34: =F41-F39 -> 95000000 | G34: =G41-G39 -> 100000000 | H34: =H41-H39 -> 115000000 | I34: =I41-I39 -> 136000000 | J34: =J41-J39 -> 158000000 | K34: =K41-K39 -> 186000000 | L34: =L41-L39 -> 354000000 | ... N34: =N41-N39 -> 1020000000
B35: Debt
B36: (placeholder) | C36: 0 | D36: 0 | E36: 0 | F36: 0 | G36: 0 | H36: 0 | I36: 0 | J36: 0 | K36: 0 | L36: 0 | M36: 0 | N36: 0
B37: Term Loan 1 | C37: -5000000 | D37: =C37 -> -5000000 | E37: =D37 -> -5000000 | F37: =E37 -> -5000000 | G37: =F37 -> -5000000 | H37: =G37 -> -5000000 | I37: =H37 -> -5000000 | J37: =I37 -> -5000000 | K37: =J37 -> -5000000 | ... N37: =M37 -> -5000000
B38: Term Loan 2 | C38: -15000000 | D38: =C38 -> -15000000 | E38: =D38 -> -15000000 | F38: =E38 -> -15000000 | G38: =F38 -> -15000000 | H38: =G38 -> -15000000 | I38: =H38 -> -15000000 | J38: =I38 -> -15000000 | K38: =J38 -> -15000000 | ... N38: =M38 -> -15000000
B39: Debt Total | C39: =SUM(C36:C38) -> -20000000 | D39: =SUM(D36:D38) -> -20000000 | E39: =SUM(E36:E38) -> -20000000 | F39: =SUM(F36:F38) -> -20000000 | G39: =SUM(G36:G38) -> -20000000 | H39: =SUM(H36:H38) -> -20000000 | I39: =SUM(I36:I38) -> -20000000 | J39: =SUM(J36:J38) -> -20000000 | ... N39: =SUM(N36:N38) -> -20000000
B41: Equity Proceeds | C41: =C34+C39 -> -20000000 | D41: =D34+D39 -> 0 | E41: =E58 -> 60000000 | F41: =F58 -> 75000000 | G41: =G58 -> 80000000 | H41: =H58 -> 95000000 | I41: =I58 -> 116000000 | J41: =J58 -> 138000000 | K41: =K58 -> 166000000 | L41: =L58 -> 334000000 | ... N41: =N58 -> 1000000000
B43: Breakpoint Event: | C43: Total Loss | D43: Debt Coverage | E43: Series C Liquidation Preference | F43: Series B Liquidation Preference | G43: Series A Liquidation Preference | H43: Common Participation | I43: Common Options @ $2.00 Exercise; Series A Conversion | J43: Common Options @ $4.00 Exercise | K43: Common Options @ $8.00 Exercise; Series B Conversion | L43: Common Options @ $20.00 Exercise | M43: Series D Conversion | N43: Top End | O43: All Securities Participate Pro Rata
B44: Breakpoint #: | C44: 1 | D44: 2 | E44: 3 | F44: 4 | G44: 5 | H44: 6 | I44: 7 | J44: 8 | K44: 9 | L44: 10 | M44: 11 | N44: 12
B46: Breakpoint Price per Common Share: | C46: 0 | D46: 0 | E46: 0 | F46: 0 | G46: 0 | H46: 2 | I46: 4 | J46: 6 | K46: 8 | L46: 20 | M46: 25 | N46: 57 | O46: Infinity
B48: Breakpoint Proceeds:
B49: (placeholder)
B50: Series C | E50: =MAX($H$21,$C$21*E$46) -> 60000000 | F50: =MAX($H$21,$C$21*F$46) -> 60000000 | G50: =MAX($H$21,$C$21*G$46) -> 60000000 | H50: =MAX($H$21,$C$21*H$46) -> 60000000 | I50: =MAX($H$21,$C$21*I$46) -> 60000000 | J50: =MAX($H$21,$C$21*J$46) -> 60000000 | K50: =MAX($H$21,$C$21*K$46) -> 60000000 | L50: =MAX($H$21,$C$21*L$46) -> 60000000 | ... N50: =MAX($H$21,$C$21*N$46) -> 171000000 | O50: Pro Rata
...

Sheet Bottom Up Waterfall
B2: Shareholder Waterfall | C2: 1 | D2: 2 | E2: 3 | F2: 4 | G2: 5 | H2: 6 | I2: 7 | J2: 8 | K2: 9 | L2: 10 | M2: 11 | N2: 12
B4: Sale Price | C4: 0 | D4: 20000000 | E4: 80000000 | F4: 95000000 | G4: 100000000 | H4: 115000000 | I4: 136000000 | J4: 158000000 | K4: 186000000 | L4: 354000000 | M4: 444000000 | N4: 1000000000
B5: Term Loan 1 | C5: ='Bottom Up (C)'!$C$37 -> -5000000 | D5: =C5 -> -5000000 | E5: =D5 -> -5000000 | F5: =E5 -> -5000000 | G5: =F5 -> -5000000 | H5: =G5 -> -5000000 | I5: =H5 -> -5000000 | J5: =I5 -> -5000000 | K5: =J5 -> -5000000 | ... N5: =M5 -> -5000000
B6: Term Loan 2 | C6: ='Bottom Up (C)'!$C$38 -> -15000000 | D6: =C6 -> -15000000 | E6: =D6 -> -15000000 | F6: =E6 -> -15000000 | G6: =F6 -> -15000000 | H6: =G6 -> -15000000 | I6: =H6 -> -15000000 | J6: =I6 -> -15000000 | K6: =J6 -> -15000000 | ... N6: =M6 -> -15000000
B7: Sale Price (less debt) | C7: =SUM(C4:C6) -> -20000000 | D7: =SUM(D4:D6) -> 0 | E7: =SUM(E4:E6) -> 60000000 | F7: =SUM(F4:F6) -> 75000000 | G7: =SUM(G4:G6) -> 80000000 | H7: =SUM(H4:H6) -> 95000000 | I7: =SUM(I4:I6) -> 116000000 | J7: =SUM(J4:J6) -> 138000000 | ... N7: =SUM(N4:N6) -> 980000000
B9: Price per Common Share: | C9: =IFERROR(C16/C39,0) -> 0 | D9: =IFERROR(D16/D39,0) -> 0 | E9: =IFERROR(E16/E39,0) -> 0 | F9: =IFERROR(F16/F39,0) -> 0 | G9: =IFERROR(G16/G39,0) -> 0 | H9: =IFERROR(H16/H39,0) -> 2 | I9: =IFERROR(I16/I39,0) -> 4 | J9: =IFERROR(J16/J39,0) -> 6 | ... N9: =IFERROR(N16/N39,0) -> 55.888889
B11: Equity Proceeds:
B12: (placeholder)
B13: Series C | D13: =(D$7-INDEX('Bottom Up (C)'!$A$80:$O$89,COUNTA($B$12:$B$20)+1,MATCH(D$7,'Bottom Up (C)'!$A$89:$O$89,1)))/(INDEX('Bottom Up (C)'!$A$80:$O$89,COUNTA($B$12:$B$20)+1,MATCH(D$7,'Bottom Up (C)'!$A$89:$O$89,1)+1)-INDEX('Bottom Up (C)'!$A$80:$O$89,COUNTA($B$12:$B$20)+1,MATCH(D$7,'Bottom Up (C)'!$A$89:$O$89,1)))*(INDEX('Bottom Up (C)'!$A$80:$O$89,MATCH($B13,$B$12:$B$20,0),MATCH(D$7,'Bottom Up (C)'!$A$89:$O$89,1)+1)-INDEX('Bottom Up (C)'!$A$80:$O$89,MATCH($B13,$B$12:$B$20,0),MATCH(D$7,'Bottom Up (C)'!$A$89:$O$89,1)))+INDEX('Bottom Up (C)'!$A$80:$O$89,MATCH($B13,$B$12:$B$20,0),MATCH(D$7,'Bottom Up (C)'!$A$89:$O$89,1)) -> 0 | E13: =(E$7-INDEX('Bottom Up (C)'!$A$80:$O$89,COUNTA($B$12:$B$20)+1,MATCH(E$7,'Bottom Up (C)'!$A$89:$O$89,1)))/(INDEX('Bottom Up (C)'!$A$80:$O$89,COUNTA($B$12:$B$20)+1,MATCH(E$7,'Bottom Up (C)'!$A$89:$O$89,1)+1)-INDEX('Bottom Up (C)'!$A$80:$O$89,COUNTA($B$12:$B$20)+1,MATCH(E$7,'Bottom Up (C)'!$A$89:$O$89,1)))*(INDEX('Bottom Up (C)'!$A$80:$O$89,MATCH($B13,$B$12:$B$20,0),MATCH(E$7,'Bottom Up (C)'!$A$89:$O$89,1)+1)-INDEX('Bottom Up (C)'!$A$80:$O$89,MATCH($B13,$B$12:$B$20,0),MATCH(E$7,'Bottom Up (C)'!$A$89:$O$89,1)))+INDEX('Bottom Up (C)'!$A$80:$O$89,MATCH($B13,$B$12:$B$20,0),MATCH(E$7,'Bottom Up (C)'!$A$89:$O$89,1)) -> 60000000 | F13: =(F$7-INDEX('Bottom Up (C)'!$A$80:$O$89,COUNTA($B$12:$B$20)+1,MATCH(F$7,'Bottom Up (C)'!$A$89:$O$89,1)))/(INDEX('Bottom Up (C)'!$A$80:$O$89,COUNTA($B$12:$B$20)+1,MATCH(F$7,'Bottom Up (C)'!$A$89:$O$89,1)+1)-INDEX('Bottom Up (C)'!$A$80:$O$89,COUNTA($B$12:$B$20)+1,MATCH(F$7,'Bottom Up (C)'!$A$89:$O$89,1)))*(INDEX('Bottom Up (C)'!$A$80:$O$89,MATCH($B13,$B$12:$B$20,0),MATCH(F$7,'Bottom Up (C)'!$A$89:$O$89,1)+1)-INDEX('Bottom Up (C)'!$A$80:$O$89,MATCH($B13,$B$12:$B$20,0),MATCH(F$7,'Bottom Up (C)'!$A$89:$O$89,1)))+INDEX('Bottom Up (C)'!$A$80:$O$89,MATCH($B13,$B$12:$B$20,0),MATCH(F$7,'Bottom Up (C)'!$A$89:$O$89,1)) -> 60000000 | G13: =(G$7-INDEX('Bottom Up (C)'!$A$80:$O$89,COUNTA($B$12:$B$20)+1,MATCH(G$7,'Bottom Up (C)'!$A$89:$O$89,1)))/(INDEX('Bottom Up (C)'!$A$80:$O$89,COUNTA($B$12:$B$20)+1,MATCH(G$7,'Bottom Up (C)'!$A$89:$O$89,1)+1)-INDEX('Bottom Up (C)'!$A$80:$O$89,COUNTA($B$12:$B$20)+1,MATCH(G$7,'Bottom Up (C)'!$A$89:$O$89,1)))*(INDEX('Bottom Up (C)'!$A$80:$O$89,MATCH($B13,$B$12:$B$20,0),MATCH(G$7,'Bottom Up (C)'!$A$89:$O$89,1)+1)-INDEX('Bottom Up (C)'!$A$80:$O$89,MATCH($B13,$B$12:$B$20,0),MATCH(G$7,'Bottom Up (C)'!$A$89:$O$89,1)))+INDEX('Bottom Up (C)'!$A$80:$O$89,MATCH($B13,$B$12:$B$20,0),MATCH(G$7,'Bottom Up (C)'!$A$89:$O$89,1)) -> 60000000 | H13: =(H$7-INDEX('Bottom Up (C)'!$A$80:$O$89,COUNTA($B$12:$B$20)+1,MATCH(H$7,'Bottom Up (C)'!$A$89:$O$89,1)))/(INDEX('Bottom Up (C)'!$A$80:$O$89,COUNTA($B$12:$B$20)+1,MATCH(H$7,'Bottom Up (C)'!$A$89:$O$89,1)+1)-INDEX('Bottom Up (C)'!$A$80:$O$89,COUNTA($B$12:$B$20)+1,MATCH(H$7,'Bottom Up (C)'!$A$89:$O$89,1)))*(INDEX('Bottom Up (C)'!$A$80:$O$89,MATCH($B13,$B$12:$B$20,0),MATCH(H$7,'Bottom Up (C)'!$A$89:$O$89,1)+1)-INDEX('Bottom Up (C)'!$A$80:$O$89,MATCH($B13,$B$12:$B$20,0),MATCH(H$7,'Bottom Up (C)'!$A$89:$O$89,1)))+INDEX('Bottom Up (C)'!$A$80:$O$89,MATCH($B13,$B$12:$B$20,0),MATCH(H$7,'Bottom Up (C)'!$A$89:$O$89,1)) -> 60000000 | I13: =(I$7-INDEX('Bottom Up (C)'!$A$80:$O$89,COUNTA($B$12:$B$20)+1,MATCH(I$7,'Bottom Up (C)'!$A$89:$O$89,1)))/(INDEX('Bottom Up (C)'!$A$80:$O$89,COUNTA($B$12:$B$20)+1,MATCH(I$7,'Bottom Up (C)'!$A$89:$O$89,1)+1)-INDEX('Bottom Up (C)'!$A$80:$O$89,COUNTA($B$12:$B$20)+1,MATCH(I$7,'Bottom Up (C)'!$A$89:$O$89,1)))*(INDEX('Bottom Up (C)'!$A$80:$O$89,MATCH($B13,$B$12:$B$20,0),MATCH(I$7,'Bottom Up (C)'!$A$89:$O$89,1)+1)-INDEX('Bottom Up (C)'!$A$80:$O$89,MATCH($B13,$B$12:$B$20,0),MATCH(I$7,'Bottom Up (C)'!$A$89:$O$89,1)))+INDEX('Bottom Up (C)'!$A$80:$O$89,MATCH($B13,$B$12:$B$20,0),MATCH(I$7,'Bottom Up (C)'!$A$89:$O$89,1)) -> 60000000 | J13: =(J$7-INDEX('Bottom Up (C)'!$A$80:$O$89,COUNTA($B$12:$B$20)+1,MATCH(J$7,'Bottom Up (C)'!$A$89:$O$89,1)))/(INDEX('Bottom Up (C)'!$A$80:$O$89,COUNTA($B$12:$B$20)+1,MATCH(J$7,'Bottom Up (C)'!$A$89:$O$89,1)+1)-INDEX('Bottom Up (C)'!$A$80:$O$89,COUNTA($B$12:$B$20)+1,MATCH(J$7,'Bottom Up (C)'!$A$89:$O$89,1)))*(INDEX('Bottom Up (C)'!$A$80:$O$89,MATCH($B13,$B$12:$B$20,0),MATCH(J$7,'Bottom Up (C)'!$A$89:$O$89,1)+1)-INDEX('Bottom Up (C)'!$A$80:$O$89,MATCH($B13,$B$12:$B$20,0),MATCH(J$7,'Bottom Up (C)'!$A$89:$O$89,1)))+INDEX('Bottom Up (C)'!$A$80:$O$89,MATCH($B13,$B$12:$B$20,0),MATCH(J$7,'Bottom Up (C)'!$A$89:$O$89,1)) -> 60000000 | K13: =(K$7-INDEX('Bottom Up (C)'!$A$80:$O$89,COUNTA($B$12:$B$20)+1,MATCH(K$7,'Bottom Up (C)'!$A$89:$O$89,1)))/(INDEX('Bottom Up (C)'!$A$80:$O$89,COUNTA($B$12:$B$20)+1,MATCH(K$7,'Bottom Up (C)'!$A$89:$O$89,1)+1)-INDEX('Bottom Up (C)'!$A$80:$O$89,COUNTA($B$12:$B$20)+1,MATCH(K$7,'Bottom Up (C)'!$A$89:$O$89,1)))*(INDEX('Bottom Up (C)'!$A$80:$O$89,MATCH($B13,$B$12:$B$20,0),MATCH(K$7,'Bottom Up (C)'!$A$89:$O$89,1)+1)-INDEX('Bottom Up (C)'!$A$80:$O$89,MATCH($B13,$B$12:$B$20,0),MATCH(K$7,'Bottom Up (C)'!$A$89:$O$89,1)))+INDEX('Bottom Up (C)'!$A$80:$O$89,MATCH($B13,$B$12:$B$20,0),MATCH(K$7,'Bottom Up (C)'!$A$89:$O$89,1)) -> 60000000 | ... N13: =(N$7-INDEX('Bottom Up (C)'!$A$80:$O$89,COUNTA($B$12:$B$20)+1,MATCH(N$7,'Bottom Up (C)'!$A$89:$O$89,1)))/(INDEX('Bottom Up (C)'!$A$80:$O$89,COUNTA($B$12:$B$20)+1,MATCH(N$7,'Bottom Up (C)'!$A$89:$O$89,1)+1)-INDEX('Bottom Up (C)'!$A$80:$O$89,COUNTA($B$12:$B$20)+1,MATCH(N$7,'Bottom Up (C)'!$A$89:$O$89,1)))*(INDEX('Bottom Up (C)'!$A$80:$O$89,MATCH($B13,$B$12:$B$20,0),MATCH(N$7,'Bottom Up (C)'!$A$89:$O$89,1)+1)-INDEX('Bottom Up (C)'!$A$80:$O$89,MATCH($B13,$B$12:$B$20,0),MATCH(N$7,'Bottom Up (C)'!$A$89:$O$89,1)))+INDEX('Bottom Up (C)'!$A$80:$O$89,MATCH($B13,$B$12:$B$20,0),MATCH(N$7,'Bottom Up (C)'!$A$89:$O$89,1)) -> 1.6766667e+08
B14: Series B | D14: =(D$7-INDEX('Bottom Up (C)'!$A$80:$O$89,COUNTA($B$12:$B$20)+1,MATCH(D$7,'Bottom Up (C)'!$A$89:$O$89,1)))/(INDEX('Bottom Up (C)'!$A$80:$O$89,COUNTA($B$12:$B$20)+1,MATCH(D$7,'Bottom Up (C)'!$A$89:$O$89,1)+1)-INDEX('Bottom Up (C)'!$A$80:$O$89,COUNTA($B$12:$B$20)+1,MATCH(D$7,'Bottom Up (C)'!$A$89:$O$89,1)))*(INDEX('Bottom Up (C)'!$A$80:$O$89,MATCH($B14,$B$12:$B$20,0),MATCH(D$7,'Bottom Up (C)'!$A$89:$O$89,1)+1)-INDEX('Bottom Up (C)'!$A$80:$O$89,MATCH($B14,$B$12:$B$20,0),MATCH(D$7,'Bottom Up (C)'!$A$89:$O$89,1)))+INDEX('Bottom Up (C)'!$A$80:$O$89,MATCH($B14,$B$12:$B$20,0),MATCH(D$7,'Bottom Up (C)'!$A$89:$O$89,1)) -> 0 | E14: =(E$7-INDEX('Bottom Up (C)'!$A$80:$O$89,COUNTA($B$12:$B$20)+1,MATCH(E$7,'Bottom Up (C)'!$A$89:$O$89,1)))/(INDEX('Bottom Up (C)'!$A$80:$O$89,COUNTA($B$12:$B$20)+1,MATCH(E$7,'Bottom Up (C)'!$A$89:$O$89,1)+1)-INDEX('Bottom Up (C)'!$A$80:$O$89,COUNTA($B$12:$B$20)+1,MATCH(E$7,'Bottom Up (C)'!$A$89:$O$89,1)))*(INDEX('Bottom Up (C)'!$A$80:$O$89,MATCH($B14,$B$12:$B$20,0),MATCH(E$7,'Bottom Up (C)'!$A$89:$O$89,1)+1)-INDEX('Bottom Up (C)'!$A$80:$O$89,MATCH($B14,$B$12:$B$20,0),MATCH(E$7,'Bottom Up (C)'!$A$89:$O$89,1)))+INDEX('Bottom Up (C)'!$A$80:$O$89,MATCH($B14,$B$12:$B$20,0),MATCH(E$7,'Bottom Up (C)'!$A$89:$O$89,1)) -> 0 | F14: =(F$7-INDEX('Bottom Up (C)'!$A$80:$O$89,COUNTA($B$12:$B$20)+1,MATCH(F$7,'Bottom Up (C)'!$A$89:$O$89,1)))/(INDEX('Bottom Up (C)'!$A$80:$O$89,COUNTA($B$12:$B$20)+1,MATCH(F$7,'Bottom Up (C)'!$A$89:$O$89,1)+1)-INDEX('Bottom Up (C)'!$A$80:$O$89,COUNTA($B$12:$B$20)+1,MATCH(F$7,'Bottom Up (C)'!$A$89:$O$89,1)))*(INDEX('Bottom Up (C)'!$A$80:$O$89,MATCH($B14,$B$12:$B$20,0),MATCH(F$7,'Bottom Up (C)'!$A$89:$O$89,1)+1)-INDEX('Bottom Up (C)'!$A$80:$O$89,MATCH($B14,$B$12:$B$20,0),MATCH(F$7,'Bottom Up (C)'!$A$89:$O$89,1)))+INDEX('Bottom Up (C)'!$A$80:$O$89,MATCH($B14,$B$12:$B$20,0),MATCH(F$7,'Bottom Up (C)'!$A$89:$O$89,1)) -> 15000000 | G14: =(G$7-INDEX('Bottom Up (C)'!$A$80:$O$89,COUNTA($B$12:$B$20)+1,MATCH(G$7,'Bottom Up (C)'!$A$89:$O$89,1)))/(INDEX('Bottom Up (C)'!$A$80:$O$89,COUNTA($B$12:$B$20)+1,MATCH(G$7,'Bottom Up (C)'!$A$89:$O$89,1)+1)-INDEX('Bottom Up (C)'!$A$80:$O$89,COUNTA($B$12:$B$20)+1,MATCH(G$7,'Bottom Up (C)'!$A$89:$O$89,1)))*(INDEX('Bottom Up (C)'!$A$80:$O$89,MATCH($B14,$B$12:$B$20,0),MATCH(G$7,'Bottom Up (C)'!$A$89:$O$89,1)+1)-INDEX('Bottom Up (C)'!$A$80:$O$89,MATCH($B14,$B$12:$B$20,0),MATCH(G$7,'Bottom Up (C)'!$A$89:$O$89,1)))+INDEX('Bottom Up (C)'!$A$80:$O$89,MATCH($B14,$B$12:$B$20,0),MATCH(G$7,'Bottom Up (C)'!$A$89:$O$89,1)) -> 15000000 | H14: =(H$7-INDEX('Bottom Up (C)'!$A$80:$O$89,COUNTA($B$12:$B$20)+1,MATCH(H$7,'Bottom Up (C)'!$A$89:$O$89,1)))/(INDEX('Bottom Up (C)'!$A$80:$O$89,COUNTA($B$12:$B$20)+1,MATCH(H$7,'Bottom Up (C)'!$A$89:$O$89,1)+1)-INDEX('Bottom Up (C)'!$A$80:$O$89,COUNTA($B$12:$B$20)+1,MATCH(H$7,'Bottom Up (C)'!$A$89:$O$89,1)))*(INDEX('Bottom Up (C)'!$A$80:$O$89,MATCH($B14,$B$12:$B$20,0),MATCH(H$7,'Bottom Up (C)'!$A$89:$O$89,1)+1)-INDEX('Bottom Up (C)'!$A$80:$O$89,MATCH($B14,$B$12:$B$20,0),MATCH(H$7,'Bottom Up (C)'!$A$89:$O$89,1)))+INDEX('Bottom Up (C)'!$A$80:$O$89,MATCH($B14,$B$12:$B$20,0),MATCH(H$7,'Bottom Up (C)'!$A$89:$O$89,1)) -> 15000000 | I14: =(I$7-INDEX('Bottom Up (C)'!$A$80:$O$89,COUNTA($B$12:$B$20)+1,MATCH(I$7,'Bottom Up (C)'!$A$89:$O$89,1)))/(INDEX('Bottom Up (C)'!$A$80:$O$89,COUNTA($B$12:$B$20)+1,MATCH(I$7,'Bottom Up (C)'!$A$89:$O$89,1)+1)-INDEX('Bottom Up (C)'!$A$80:$O$89,COUNTA($B$12:$B$20)+1,MATCH(I$7,'Bottom Up (C)'!$A$89:$O$89,1)))*(INDEX('Bottom Up (C)'!$A$80:$O$89,MATCH($B14,$B$12:$B$20,0),MATCH(I$7,'Bottom Up (C)'!$A$89:$O$89,1)+1)-INDEX('Bottom Up (C)'!$A$80:$O$89,MATCH($B14,$B$12:$B$20,0),MATCH(I$7,'Bottom Up (C)'!$A$89:$O$89,1)))+INDEX('Bottom Up (C)'!$A$80:$O$89,MATCH($B14,$B$12:$B$20,0),MATCH(I$7,'Bottom Up (C)'!$A$89:$O$89,1)) -> 15000000 | J14: =(J$7-INDEX('Bottom Up (C)'!$A$80:$O$89,COUNTA($B$12:$B$20)+1,MATCH(J$7,'Bottom Up (C)'!$A$89:$O$89,1)))/(INDEX('Bottom Up (C)'!$A$80:$O$89,COUNTA($B$12:$B$20)+1,MATCH(J$7,'Bottom Up (C)'!$A$89:$O$89,1)+1)-INDEX('Bottom Up (C)'!$A$80:$O$89,COUNTA($B$12:$B$20)+1,MATCH(J$7,'Bottom Up (C)'!$A$89:$O$89,1)))*(INDEX('Bottom Up (C)'!$A$80:$O$89,MATCH($B14,$B$12:$B$20,0),MATCH(J$7,'Bottom Up (C)'!$A$89:$O$89,1)+1)-INDEX('Bottom Up (C)'!$A$80:$O$89,MATCH($B14,$B$12:$B$20,0),MATCH(J$7,'Bottom Up (C)'!$A$89:$O$89,1)))+INDEX('Bottom Up (C)'!$A$80:$O$89,MATCH($B14,$B$12:$B$20,0),MATCH(J$7,'Bottom Up (C)'!$A$89:$O$89,1)) -> 15000000 | K14: =(K$7-INDEX('Bottom Up (C)'!$A$80:$O$89,COUNTA($B$12:$B$20)+1,MATCH(K$7,'Bottom Up (C)'!$A$89:$O$89,1)))/(INDEX('Bottom Up (C)'!$A$80:$O$89,COUNTA($B$12:$B$20)+1,MATCH(K$7,'Bottom Up (C)'!$A$89:$O$89,1)+1)-INDEX('Bottom Up (C)'!$A$80:$O$89,COUNTA($B$12:$B$20)+1,MATCH(K$7,'Bottom Up (C)'!$A$89:$O$89,1)))*(INDEX('Bottom Up (C)'!$A$80:$O$89,MATCH($B14,$B$12:$B$20,0),MATCH(K$7,'Bottom Up (C)'!$A$89:$O$89,1)+1)-INDEX('Bottom Up (C)'!$A$80:$O$89,MATCH($B14,$B$12:$B$20,0),MATCH(K$7,'Bottom Up (C)'!$A$89:$O$89,1)))+INDEX('Bottom Up (C)'!$A$80:$O$89,MATCH($B14,$B$12:$B$20,0),MATCH(K$7,'Bottom Up (C)'!$A$89:$O$89,1)) -> 20000000 | ... N14: =(N$7-INDEX('Bottom Up (C)'!$A$80:$O$89,COUNTA($B$12:$B$20)+1,MATCH(N$7,'Bottom Up (C)'!$A$89:$O$89,1)))/(INDEX('Bottom Up (C)'!$A$80:$O$89,COUNTA($B$12:$B$20)+1,MATCH(N$7,'Bottom Up (C)'!$A$89:$O$89,1)+1)-INDEX('Bottom Up (C)'!$A$80:$O$89,COUNTA($B$12:$B$20)+1,MATCH(N$7,'Bottom Up (C)'!$A$89:$O$89,1)))*(INDEX('Bottom Up (C)'!$A$80:$O$89,MATCH($B14,$B$12:$B$20,0),MATCH(N$7,'Bottom Up (C)'!$A$89:$O$89,1)+1)-INDEX('Bottom Up (C)'!$A$80:$O$89,MATCH($B14,$B$12:$B$20,0),MATCH(N$7,'Bottom Up (C)'!$A$89:$O$89,1)))+INDEX('Bottom Up (C)'!$A$80:$O$89,MATCH($B14,$B$12:$B$20,0),MATCH(N$7,'Bottom Up (C)'!$A$89:$O$89,1)) -> 1.3972222e+08
B15: Series A | D15: =(D$7-INDEX('Bottom Up (C)'!$A$80:$O$89,COUNTA($B$12:$B$20)+1,MATCH(D$7,'Bottom Up (C)'!$A$89:$O$89,1)))/(INDEX('Bottom Up (C)'!$A$80:$O$89,COUNTA($B$12:$B$20)+1,MATCH(D$7,'Bottom Up (C)'!$A$89:$O$89,1)+1)-INDEX('Bottom Up (C)'!$A$80:$O$89,COUNTA($B$12:$B$20)+1,MATCH(D$7,'Bottom Up (C)'!$A$89:$O$89,1)))*(INDEX('Bottom Up (C)'!$A$80:$O$89,MATCH($B15,$B$12:$B$20,0),MATCH(D$7,'Bottom Up (C)'!$A$89:$O$89,1)+1)-INDEX('Bottom Up (C)'!$A$80:$O$89,MATCH($B15,$B$12:$B$20,0),MATCH(D$7,'Bottom Up (C)'!$A$89:$O$89,1)))+INDEX('Bottom Up (C)'!$A$80:$O$89,MATCH($B15,$B$12:$B$20,0),MATCH(D$7,'Bottom Up (C)'!$A$89:$O$89,1)) -> 0 | E15: =(E$7-INDEX('Bottom Up (C)'!$A$80:$O$89,COUNTA($B$12:$B$20)+1,MATCH(E$7,'Bottom Up (C)'!$A$89:$O$89,1)))/(INDEX('Bottom Up (C)'!$A$80:$O$89,COUNTA($B$12:$B$20)+1,MATCH(E$7,'Bottom Up (C)'!$A$89:$O$89,1)+1)-INDEX('Bottom Up (C)'!$A$80:$O$89,COUNTA($B$12:$B$20)+1,MATCH(E$7,'Bottom Up (C)'!$A$89:$O$89,1)))*(INDEX('Bottom Up (C)'!$A$80:$O$89,MATCH($B15,$B$12:$B$20,0),MATCH(E$7,'Bottom Up (C)'!$A$89:$O$89,1)+1)-INDEX('Bottom Up (C)'!$A$80:$O$89,MATCH($B15,$B$12:$B$20,0),MATCH(E$7,'Bottom Up (C)'!$A$89:$O$89,1)))+INDEX('Bottom Up (C)'!$A$80:$O$89,MATCH($B15,$B$12:$B$20,0),MATCH(E$7,'Bottom Up (C)'!$A$89:$O$89,1)) -> 0 | F15: =(F$7-INDEX('Bottom Up (C)'!$A$80:$O$89,COUNTA($B$12:$B$20)+1,MATCH(F$7,'Bottom Up (C)'!$A$89:$O$89,1)))/(INDEX('Bottom Up (C)'!$A$80:$O$89,COUNTA($B$12:$B$20)+1,MATCH(F$7,'Bottom Up (C)'!$A$89:$O$89,1)+1)-INDEX('Bottom Up (C)'!$A$80:$O$89,COUNTA($B$12:$B$20)+1,MATCH(F$7,'Bottom Up (C)'!$A$89:$O$89,1)))*(INDEX('Bottom Up (C)'!$A$80:$O$89,MATCH($B15,$B$12:$B$20,0),MATCH(F$7,'Bottom Up (C)'!$A$89:$O$89,1)+1)-INDEX('Bottom Up (C)'!$A$80:$O$89,MATCH($B15,$B$12:$B$20,0),MATCH(F$7,'Bottom Up (C)'!$A$89:$O$89,1)))+INDEX('Bottom Up (C)'!$A$80:$O$89,MATCH($B15,$B$12:$B$20,0),MATCH(F$7,'Bottom Up (C)'!$A$89:$O$89,1)) -> 0 | G15: =(G$7-INDEX('Bottom Up (C)'!$A$80:$O$89,COUNTA($B$12:$B$20)+1,MATCH(G$7,'Bottom Up (C)'!$A$89:$O$89,1)))/(INDEX('Bottom Up (C)'!$A$80:$O$89,COUNTA($B$12:$B$20)+1,MATCH(G$7,'Bottom Up (C)'!$A$89:$O$89,1)+1)-INDEX('Bottom Up (C)'!$A$80:$O$89,COUNTA($B$12:$B$20)+1,MATCH(G$7,'Bottom Up (C)'!$A$89:$O$89,1)))*(INDEX('Bottom Up (C)'!$A$80:$O$89,MATCH($B15,$B$12:$B$20,0),MATCH(G$7,'Bottom Up (C)'!$A$89:$O$89,1)+1)-INDEX('Bottom Up (C)'!$A$80:$O$89,MATCH($B15,$B$12:$B$20,0),MATCH(G$7,'Bottom Up (C)'!$A$89:$O$89,1)))+INDEX('Bottom Up (C)'!$A$80:$O$89,MATCH($B15,$B$12:$B$20,0),MATCH(G$7,'Bottom Up (C)'!$A$89:$O$89,1)) -> 5000000 | H15: =(H$7-INDEX('Bottom Up (C)'!$A$80:$O$89,COUNTA($B$12:$B$20)+1,MATCH(H$7,'Bottom Up (C)'!$A$89:$O$89,1)))/(INDEX('Bottom Up (C)'!$A$80:$O$89,COUNTA($B$12:$B$20)+1,MATCH(H$7,'Bottom Up (C)'!$A$89:$O$89,1)+1)-INDEX('Bottom Up (C)'!$A$80:$O$89,COUNTA($B$12:$B$20)+1,MATCH(H$7,'Bottom Up (C)'!$A$89:$O$89,1)))*(INDEX('Bottom Up (C)'!$A$80:$O$89,MATCH($B15,$B$12:$B$20,0),MATCH(H$7,'Bottom Up (C)'!$A$89:$O$89,1)+1)-INDEX('Bottom Up (C)'!$A$80:$O$89,MATCH($B15,$B$12:$B$20,0),MATCH(H$7,'Bottom Up (C)'!$A$89:$O$89,1)))+INDEX('Bottom Up (C)'!$A$80:$O$89,MATCH($B15,$B$12:$B$20,0),MATCH(H$7,'Bottom Up (C)'!$A$89:$O$89,1)) -> 5000000 | I15: =(I$7-INDEX('Bottom Up (C)'!$A$80:$O$89,COUNTA($B$12:$B$20)+1,MATCH(I$7,'Bottom Up (C)'!$A$89:$O$89,1)))/(INDEX('Bottom Up (C)'!$A$80:$O$89,COUNTA($B$12:$B$20)+1,MATCH(I$7,'Bottom Up (C)'!$A$89:$O$89,1)+1)-INDEX('Bottom Up (C)'!$A$80:$O$89,COUNTA($B$12:$B$20)+1,MATCH(I$7,'Bottom Up (C)'!$A$89:$O$89,1)))*(INDEX('Bottom Up (C)'!$A$80:$O$89,MATCH($B15,$B$12:$B$20,0),MATCH(I$7,'Bottom Up (C)'!$A$89:$O$89,1)+1)-INDEX('Bottom Up (C)'!$A$80:$O$89,MATCH($B15,$B$12:$B$20,0),MATCH(I$7,'Bottom Up (C)'!$A$89:$O$89,1)))+INDEX('Bottom Up (C)'!$A$80:$O$89,MATCH($B15,$B$12:$B$20,0),MATCH(I$7,'Bottom Up (C)'!$A$89:$O$89,1)) -> 10000000 | J15: =(J$7-INDEX('Bottom Up (C)'!$A$80:$O$89,COUNTA($B$12:$B$20)+1,MATCH(J$7,'Bottom Up (C)'!$A$89:$O$89,1)))/(INDEX('Bottom Up (C)'!$A$80:$O$89,COUNTA($B$12:$B$20)+1,MATCH(J$7,'Bottom Up (C)'!$A$89:$O$89,1)+1)-INDEX('Bottom Up (C)'!$A$80:$O$89,COUNTA($B$12:$B$20)+1,MATCH(J$7,'Bottom Up (C)'!$A$89:$O$89,1)))*(INDEX('Bottom Up (C)'!$A$80:$O$89,MATCH($B15,$B$12:$B$20,0),MATCH(J$7,'Bottom Up (C)'!$A$89:$O$89,1)+1)-INDEX('Bottom Up (C)'!$A$80:$O$89,MATCH($B15,$B$12:$B$20,0),MATCH(J$7,'Bottom Up (C)'!$A$89:$O$89,1)))+INDEX('Bottom Up (C)'!$A$80:$O$89,MATCH($B15,$B$12:$B$20,0),MATCH(J$7,'Bottom Up (C)'!$A$89:$O$89,1)) -> 15000000 | K15: =(K$7-INDEX('Bottom Up (C)'!$A$80:$O$89,COUNTA($B$12:$B$20)+1,MATCH(K$7,'Bottom Up (C)'!$A$89:$O$89,1)))/(INDEX('Bottom Up (C)'!$A$80:$O$89,COUNTA($B$12:$B$20)+1,MATCH(K$7,'Bottom Up (C)'!$A$89:$O$89,1)+1)-INDEX('Bottom Up (C)'!$A$80:$O$89,COUNTA($B$12:$B$20)+1,MATCH(K$7,'Bottom Up (C)'!$A$89:$O$89,1)))*(INDEX('Bottom Up (C)'!$A$80:$O$89,MATCH($B15,$B$12:$B$20,0),MATCH(K$7,'Bottom Up (C)'!$A$89:$O$89,1)+1)-INDEX('Bottom Up (C)'!$A$80:$O$89,MATCH($B15,$B$12:$B$20,0),MATCH(K$7,'Bottom Up (C)'!$A$89:$O$89,1)))+INDEX('Bottom Up (C)'!$A$80:$O$89,MATCH($B15,$B$12:$B$20,0),MATCH(K$7,'Bottom Up (C)'!$A$89:$O$89,1)) -> 20000000 | ... N15: =(N$7-INDEX('Bottom Up (C)'!$A$80:$O$89,COUNTA($B$12:$B$20)+1,MATCH(N$7,'Bottom Up (C)'!$A$89:$O$89,1)))/(INDEX('Bottom Up (C)'!$A$80:$O$89,COUNTA($B$12:$B$20)+1,MATCH(N$7,'Bottom Up (C)'!$A$89:$O$89,1)+1)-INDEX('Bottom Up (C)'!$A$80:$O$89,COUNTA($B$12:$B$20)+1,MATCH(N$7,'Bottom Up (C)'!$A$89:$O$89,1)))*(INDEX('Bottom Up (C)'!$A$80:$O$89,MATCH($B15,$B$12:$B$20,0),MATCH(N$7,'Bottom Up (C)'!$A$89:$O$89,1)+1)-INDEX('Bottom Up (C)'!$A$80:$O$89,MATCH($B15,$B$12:$B$20,0),MATCH(N$7,'Bottom Up (C)'!$A$89:$O$89,1)))+INDEX('Bottom Up (C)'!$A$80:$O$89,MATCH($B15,$B$12:$B$20,0),MATCH(N$7,'Bottom Up (C)'!$A$89:$O$89,1)) -> 1.3972222e+08
B16: Common | D16: =(D$7-INDEX('Bottom Up (C)'!$A$80:$O$89,COUNTA($B$12:$B$20)+1,MATCH(D$7,'Bottom Up (C)'!$A$89:$O$89,1)))/(INDEX('Bottom Up (C)'!$A$80:$O$89,COUNTA($B$12:$B$20)+1,MATCH(D$7,'Bottom Up (C)'!$A$89:$O$89,1)+1)-INDEX('Bottom Up (C)'!$A$80:$O$89,COUNTA($B$12:$B$20)+1,MATCH(D$7,'Bottom Up (C)'!$A$89:$O$89,1)))*(INDEX('Bottom Up (C)'!$A$80:$O$89,MATCH($B16,$B$12:$B$20,0),MATCH(D$7,'Bottom Up (C)'!$A$89:$O$89,1)+1)-INDEX('Bottom Up (C)'!$A$80:$O$89,MATCH($B16,$B$12:$B$20,0),MATCH(D$7,'Bottom Up (C)'!$A$89:$O$89,1)))+INDEX('Bottom Up (C)'!$A$80:$O$89,MATCH($B16,$B$12:$B$20,0),MATCH(D$7,'Bottom Up (C)'!$A$89:$O$89,1)) -> 0 | E16: =(E$7-INDEX('Bottom Up (C)'!$A$80:$O$89,COUNTA($B$12:$B$20)+1,MATCH(E$7,'Bottom Up (C)'!$A$89:$O$89,1)))/(INDEX('Bottom Up (C)'!$A$80:$O$89,COUNTA($B$12:$B$20)+1,MATCH(E$7,'Bottom Up (C)'!$A$89:$O$89,1)+1)-INDEX('Bottom Up (C)'!$A$80:$O$89,COUNTA($B$12:$B$20)+1,MATCH(E$7,'Bottom Up (C)'!$A$89:$O$89,1)))*(INDEX('Bottom Up (C)'!$A$80:$O$89,MATCH($B16,$B$12:$B$20,0),MATCH(E$7,'Bottom Up (C)'!$A$89:$O$89,1)+1)-INDEX('Bottom Up (C)'!$A$80:$O$89,MATCH($B16,$B$12:$B$20,0),MATCH(E$7,'Bottom Up (C)'!$A$89:$O$89,1)))+INDEX('Bottom Up (C)'!$A$80:$O$89,MATCH($B16,$B$12:$B$20,0),MATCH(E$7,'Bottom Up (C)'!$A$89:$O$89,1)) -> 0 | F16: =(F$7-INDEX('Bottom Up (C)'!$A$80:$O$89,COUNTA($B$12:$B$20)+1,MATCH(F$7,'Bottom Up (C)'!$A$89:$O$89,1)))/(INDEX('Bottom Up (C)'!$A$80:$O$89,COUNTA($B$12:$B$20)+1,MATCH(F$7,'Bottom Up (C)'!$A$89:$O$89,1)+1)-INDEX('Bottom Up (C)'!$A$80:$O$89,COUNTA($B$12:$B$20)+1,MATCH(F$7,'Bottom Up (C)'!$A$89:$O$89,1)))*(INDEX('Bottom Up (C)'!$A$80:$O$89,MATCH($B16,$B$12:$B$20,0),MATCH(F$7,'Bottom Up (C)'!$A$89:$O$89,1)+1)-INDEX('Bottom Up (C)'!$A$80:$O$89,MATCH($B16,$B$12:$B$20,0),MATCH(F$7,'Bottom Up (C)'!$A$89:$O$89,1)))+INDEX('Bottom Up (C)'!$A$80:$O$89,MATCH($B16,$B$12:$B$20,0),MATCH(F$7,'Bottom Up (C)'!$A$89:$O$89,1)) -> 0 | G16: =(G$7-INDEX('Bottom Up (C)'!$A$80:$O$89,COUNTA($B$12:$B$20)+1,MATCH(G$7,'Bottom Up (C)'!$A$89:$O$89,1)))/(INDEX('Bottom Up (C)'!$A$80:$O$89,COUNTA($B$12:$B$20)+1,MATCH(G$7,'Bottom Up (C)'!$A$89:$O$89,1)+1)-INDEX('Bottom Up (C)'!$A$80:$O$89,COUNTA($B$12:$B$20)+1,MATCH(G$7,'Bottom Up (C)'!$A$89:$O$89,1)))*(INDEX('Bottom Up (C)'!$A$80:$O$89,MATCH($B16,$B$12:$B$20,0),MATCH(G$7,'Bottom Up (C)'!$A$89:$O$89,1)+1)-INDEX('Bottom Up (C)'!$A$80:$O$89,MATCH($B16,$B$12:$B$20,0),MATCH(G$7,'Bottom Up (C)'!$A$89:$O$89,1)))+INDEX('Bottom Up (C)'!$A$80:$O$89,MATCH($B16,$B$12:$B$20,0),MATCH(G$7,'Bottom Up (C)'!$A$89:$O$89,1)) -> 0 | H16: =(H$7-INDEX('Bottom Up (C)'!$A$80:$O$89,COUNTA($B$12:$B$20)+1,MATCH(H$7,'Bottom Up (C)'!$A$89:$O$89,1)))/(INDEX('Bottom Up (C)'!$A$80:$O$89,COUNTA($B$12:$B$20)+1,MATCH(H$7,'Bottom Up (C)'!$A$89:$O$89,1)+1)-INDEX('Bottom Up (C)'!$A$80:$O$89,COUNTA($B$12:$B$20)+1,MATCH(H$7,'Bottom Up (C)'!$A$89:$O$89,1)))*(INDEX('Bottom Up (C)'!$A$80:$O$89,MATCH($B16,$B$12:$B$20,0),MATCH(H$7,'Bottom Up (C)'!$A$89:$O$89,1)+1)-INDEX('Bottom Up (C)'!$A$80:$O$89,MATCH($B16,$B$12:$B$20,0),MATCH(H$7,'Bottom Up (C)'!$A$89:$O$89,1)))+INDEX('Bottom Up (C)'!$A$80:$O$89,MATCH($B16,$B$12:$B$20,0),MATCH(H$7,'Bottom Up (C)'!$A$89:$O$89,1)) -> 15000000 | I16: =(I$7-INDEX('Bottom Up (C)'!$A$80:$O$89,COUNTA($B$12:$B$20)+1,MATCH(I$7,'Bottom Up (C)'!$A$89:$O$89,1)))/(INDEX('Bottom Up (C)'!$A$80:$O$89,COUNTA($B$12:$B$20)+1,MATCH(I$7,'Bottom Up (C)'!$A$89:$O$89,1)+1)-INDEX('Bottom Up (C)'!$A$80:$O$89,COUNTA($B$12:$B$20)+1,MATCH(I$7,'Bottom Up (C)'!$A$89:$O$89,1)))*(INDEX('Bottom Up (C)'!$A$80:$O$89,MATCH($B16,$B$12:$B$20,0),MATCH(I$7,'Bottom Up (C)'!$A$89:$O$89,1)+1)-INDEX('Bottom Up (C)'!$A$80:$O$89,MATCH($B16,$B$12:$B$20,0),MATCH(I$7,'Bottom Up (C)'!$A$89:$O$89,1)))+INDEX('Bottom Up (C)'!$A$80:$O$89,MATCH($B16,$B$12:$B$20,0),MATCH(I$7,'Bottom Up (C)'!$A$89:$O$89,1)) -> 30000000 | J16: =(J$7-INDEX('Bottom Up (C)'!$A$80:$O$89,COUNTA($B$12:$B$20)+1,MATCH(J$7,'Bottom Up (C)'!$A$89:$O$89,1)))/(INDEX('Bottom Up (C)'!$A$80:$O$89,COUNTA($B$12:$B$20)+1,MATCH(J$7,'Bottom Up (C)'!$A$89:$O$89,1)+1)-INDEX('Bottom Up (C)'!$A$80:$O$89,COUNTA($B$12:$B$20)+1,MATCH(J$7,'Bottom Up (C)'!$A$89:$O$89,1)))*(INDEX('Bottom Up (C)'!$A$80:$O$89,MATCH($B16,$B$12:$B$20,0),MATCH(J$7,'Bottom Up (C)'!$A$89:$O$89,1)+1)-INDEX('Bottom Up (C)'!$A$80:$O$89,MATCH($B16,$B$12:$B$20,0),MATCH(J$7,'Bottom Up (C)'!$A$89:$O$89,1)))+INDEX('Bottom Up (C)'!$A$80:$O$89,MATCH($B16,$B$12:$B$20,0),MATCH(J$7,'Bottom Up (C)'!$A$89:$O$89,1)) -> 45000000 | K16: =(K$7-INDEX('Bottom Up (C)'!$A$80:$O$89,COUNTA($B$12:$B$20)+1,MATCH(K$7,'Bottom Up (C)'!$A$89:$O$89,1)))/(INDEX('Bottom Up (C)'!$A$80:$O$89,COUNTA($B$12:$B$20)+1,MATCH(K$7,'Bottom Up (C)'!$A$89:$O$89,1)+1)-INDEX('Bottom Up (C)'!$A$80:$O$89,COUNTA($B$12:$B$20)+1,MATCH(K$7,'Bottom Up (C)'!$A$89:$O$89,1)))*(INDEX('Bottom Up (C)'!$A$80:$O$89,MATCH($B16,$B$12:$B$20,0),MATCH(K$7,'Bottom Up (C)'!$A$89:$O$89,1)+1)-INDEX('Bottom Up (C)'!$A$80:$O$89,MATCH($B16,$B$12:$B$20,0),MATCH(K$7,'Bottom Up (C)'!$A$89:$O$89,1)))+INDEX('Bottom Up (C)'!$A$80:$O$89,MATCH($B16,$B$12:$B$20,0),MATCH(K$7,'Bottom Up (C)'!$A$89:$O$89,1)) -> 60000000 | ... N16: =(N$7-INDEX('Bottom Up (C)'!$A$80:$O$89,COUNTA($B$12:$B$20)+1,MATCH(N$7,'Bottom Up (C)'!$A$89:$O$89,1)))/(INDEX('Bottom Up (C)'!$A$80:$O$89,COUNTA($B$12:$B$20)+1,MATCH(N$7,'Bottom Up (C)'!$A$89:$O$89,1)+1)-INDEX('Bottom Up (C)'!$A$80:$O$89,COUNTA($B$12:$B$20)+1,MATCH(N$7,'Bottom Up (C)'!$A$89:$O$89,1)))*(INDEX('Bottom Up (C)'!$A$80:$O$89,MATCH($B16,$B$12:$B$20,0),MATCH(N$7,'Bottom Up (C)'!$A$89:$O$89,1)+1)-INDEX('Bottom Up (C)'!$A$80:$O$89,MATCH($B16,$B$12:$B$20,0),MATCH(N$7,'Bottom Up (C)'!$A$89:$O$89,1)))+INDEX('Bottom Up (C)'!$A$80:$O$89,MATCH($B16,$B$12:$B$20,0),MATCH(N$7,'Bottom Up (C)'!$A$89:$O$89,1)) -> 4.1916667e+08
B17: Common Options Z | D17: =(D$7-INDEX('Bottom Up (C)'!$A$80:$O$89,COUNTA($B$12:$B$20)+1,MATCH(D$7,'Bottom Up (C)'!$A$89:$O$89,1)))/(INDEX('Bottom Up (C)'!$A$80:$O$89,COUNTA($B$12:$B$20)+1,MATCH(D$7,'Bottom Up (C)'!$A$89:$O$89,1)+1)-INDEX('Bottom Up (C)'!$A$80:$O$89,COUNTA($B$12:$B$20)+1,MATCH(D$7,'Bottom Up (C)'!$A$89:$O$89,1)))*(INDEX('Bottom Up (C)'!$A$80:$O$89,MATCH($B17,$B$12:$B$20,0),MATCH(D$7,'Bottom Up (C)'!$A$89:$O$89,1)+1)-INDEX('Bottom Up (C)'!$A$80:$O$89,MATCH($B17,$B$12:$B$20,0),MATCH(D$7,'Bottom Up (C)'!$A$89:$O$89,1)))+INDEX('Bottom Up (C)'!$A$80:$O$89,MATCH($B17,$B$12:$B$20,0),MATCH(D$7,'Bottom Up (C)'!$A$89:$O$89,1)) -> 0 | E17: =(E$7-INDEX('Bottom Up (C)'!$A$80:$O$89,COUNTA($B$12:$B$20)+1,MATCH(E$7,'Bottom Up (C)'!$A$89:$O$89,1)))/(INDEX('Bottom Up (C)'!$A$80:$O$89,COUNTA($B$12:$B$20)+1,MATCH(E$7,'Bottom Up (C)'!$A$89:$O$89,1)+1)-INDEX('Bottom Up (C)'!$A$80:$O$89,COUNTA($B$12:$B$20)+1,MATCH(E$7,'Bottom Up (C)'!$A$89:$O$89,1)))*(INDEX('Bottom Up (C)'!$A$80:$O$89,MATCH($B17,$B$12:$B$20,0),MATCH(E$7,'Bottom Up (C)'!$A$89:$O$89,1)+1)-INDEX('Bottom Up (C)'!$A$80:$O$89,MATCH($B17,$B$12:$B$20,0),MATCH(E$7,'Bottom Up (C)'!$A$89:$O$89,1)))+INDEX('Bottom Up (C)'!$A$80:$O$89,MATCH($B17,$B$12:$B$20,0),MATCH(E$7,'Bottom Up (C)'!$A$89:$O$89,1)) -> 0 | F17: =(F$7-INDEX('Bottom Up (C)'!$A$80:$O$89,COUNTA($B$12:$B$20)+1,MATCH(F$7,'Bottom Up (C)'!$A$89:$O$89,1)))/(INDEX('Bottom Up (C)'!$A$80:$O$89,COUNTA($B$12:$B$20)+1,MATCH(F$7,'Bottom Up (C)'!$A$89:$O$89,1)+1)-INDEX('Bottom Up (C)'!$A$80:$O$89,COUNTA($B$12:$B$20)+1,MATCH(F$7,'Bottom Up (C)'!$A$89:$O$89,1)))*(INDEX('Bottom Up (C)'!$A$80:$O$89,MATCH($B17,$B$12:$B$20,0),MATCH(F$7,'Bottom Up (C)'!$A$89:$O$89,1)+1)-INDEX('Bottom Up (C)'!$A$80:$O$89,MATCH($B17,$B$12:$B$20,0),MATCH(F$7,'Bottom Up (C)'!$A$89:$O$89,1)))+INDEX('Bottom Up (C)'!$A$80:$O$89,MATCH($B17,$B$12:$B$20,0),MATCH(F$7,'Bottom Up (C)'!$A$89:$O$89,1)) -> 0 | G17: =(G$7-INDEX('Bottom Up (C)'!$A$80:$O$89,COUNTA($B$12:$B$20)+1,MATCH(G$7,'Bottom Up (C)'!$A$89:$O$89,1)))/(INDEX('Bottom Up (C)'!$A$80:$O$89,COUNTA($B$12:$B$20)+1,MATCH(G$7,'Bottom Up (C)'!$A$89:$O$89,1)+1)-INDEX('Bottom Up (C)'!$A$80:$O$89,COUNTA($B$12:$B$20)+1,MATCH(G$7,'Bottom Up (C)'!$A$89:$O$89,1)))*(INDEX('Bottom Up (C)'!$A$80:$O$89,MATCH($B17,$B$12:$B$20,0),MATCH(G$7,'Bottom Up (C)'!$A$89:$O$89,1)+1)-INDEX('Bottom Up (C)'!$A$80:$O$89,MATCH($B17,$B$12:$B$20,0),MATCH(G$7,'Bottom Up (C)'!$A$89:$O$89,1)))+INDEX('Bottom Up (C)'!$A$80:$O$89,MATCH($B17,$B$12:$B$20,0),MATCH(G$7,'Bottom Up (C)'!$A$89:$O$89,1)) -> 0 | H17: =(H$7-INDEX('Bottom Up (C)'!$A$80:$O$89,COUNTA($B$12:$B$20)+1,MATCH(H$7,'Bottom Up (C)'!$A$89:$O$89,1)))/(INDEX('Bottom Up (C)'!$A$80:$O$89,COUNTA($B$12:$B$20)+1,MATCH(H$7,'Bottom Up (C)'!$A$89:$O$89,1)+1)-INDEX('Bottom Up (C)'!$A$80:$O$89,COUNTA($B$12:$B$20)+1,MATCH(H$7,'Bottom Up (C)'!$A$89:$O$89,1)))*(INDEX('Bottom Up (C)'!$A$80:$O$89,MATCH($B17,$B$12:$B$20,0),MATCH(H$7,'Bottom Up (C)'!$A$89:$O$89,1)+1)-INDEX('Bottom Up (C)'!$A$80:$O$89,MATCH($B17,$B$12:$B$20,0),MATCH(H$7,'Bottom Up (C)'!$A$89:$O$89,1)))+INDEX('Bottom Up (C)'!$A$80:$O$89,MATCH($B17,$B$12:$B$20,0),MATCH(H$7,'Bottom Up (C)'!$A$89:$O$89,1)) -> 0 | I17: =(I$7-INDEX('Bottom Up (C)'!$A$80:$O$89,COUNTA($B$12:$B$20)+1,MATCH(I$7,'Bottom Up (C)'!$A$89:$O$89,1)))/(INDEX('Bottom Up (C)'!$A$80:$O$89,COUNTA($B$12:$B$20)+1,MATCH(I$7,'Bottom Up (C)'!$A$89:$O$89,1)+1)-INDEX('Bottom Up (C)'!$A$80:$O$89,COUNTA($B$12:$B$20)+1,MATCH(I$7,'Bottom Up (C)'!$A$89:$O$89,1)))*(INDEX('Bottom Up (C)'!$A$80:$O$89,MATCH($B17,$B$12:$B$20,0),MATCH(I$7,'Bottom Up (C)'!$A$89:$O$89,1)+1)-INDEX('Bottom Up (C)'!$A$80:$O$89,MATCH($B17,$B$12:$B$20,0),MATCH(I$7,'Bottom Up (C)'!$A$89:$O$89,1)))+INDEX('Bottom Up (C)'!$A$80:$O$89,MATCH($B17,$B$12:$B$20,0),MATCH(I$7,'Bottom Up (C)'!$A$89:$O$89,1)) -> 1000000 | J17: =(J$7-INDEX('Bottom Up (C)'!$A$80:$O$89,COUNTA($B$12:$B$20)+1,MATCH(J$7,'Bottom Up (C)'!$A$89:$O$89,1)))/(INDEX('Bottom Up (C)'!$A$80:$O$89,COUNTA($B$12:$B$20)+1,MATCH(J$7,'Bottom Up (C)'!$A$89:$O$89,1)+1)-INDEX('Bottom Up (C)'!$A$80:$O$89,COUNTA($B$12:$B$20)+1,MATCH(J$7,'Bottom Up (C)'!$A$89:$O$89,1)))*(INDEX('Bottom Up (C)'!$A$80:$O$89,MATCH($B17,$B$12:$B$20,0),MATCH(J$7,'Bottom Up (C)'!$A$89:$O$89,1)+1)-INDEX('Bottom Up (C)'!$A$80:$O$89,MATCH($B17,$B$12:$B$20,0),MATCH(J$7,'Bottom Up (C)'!$A$89:$O$89,1)))+INDEX('Bottom Up (C)'!$A$80:$O$89,MATCH($B17,$B$12:$B$20,0),MATCH(J$7,'Bottom Up (C)'!$A$89:$O$89,1)) -> 2000000 | K17: =(K$7-INDEX('Bottom Up (C)'!$A$80:$O$89,COUNTA($B$12:$B$20)+1,MATCH(K$7,'Bottom Up (C)'!$A$89:$O$89,1)))/(INDEX('Bottom Up (C)'!$A$80:$O$89,COUNTA($B$12:$B$20)+1,MATCH(K$7,'Bottom Up (C)'!$A$89:$O$89,1)+1)-INDEX('Bottom Up (C)'!$A$80:$O$89,COUNTA($B$12:$B$20)+1,MATCH(K$7,'Bottom Up (C)'!$A$89:$O$89,1)))*(INDEX('Bottom Up (C)'!$A$80:$O$89,MATCH($B17,$B$12:$B$20,0),MATCH(K$7,'Bottom Up (C)'!$A$89:$O$89,1)+1)-INDEX('Bottom Up (C)'!$A$80:$O$89,MATCH($B17,$B$12:$B$20,0),MATCH(K$7,'Bottom Up (C)'!$A$89:$O$89,1)))+INDEX('Bottom Up (C)'!$A$80:$O$89,MATCH($B17,$B$12:$B$20,0),MATCH(K$7,'Bottom Up (C)'!$A$89:$O$89,1)) -> 3000000 | ... N17: =(N$7-INDEX('Bottom Up (C)'!$A$80:$O$89,COUNTA($B$12:$B$20)+1,MATCH(N$7,'Bottom Up (C)'!$A$89:$O$89,1)))/(INDEX('Bottom Up (C)'!$A$80:$O$89,COUNTA($B$12:$B$20)+1,MATCH(N$7,'Bottom Up (C)'!$A$89:$O$89,1)+1)-INDEX('Bottom Up (C)'!$A$80:$O$89,COUNTA($B$12:$B$20)+1,MATCH(N$7,'Bottom Up (C)'!$A$89:$O$89,1)))*(INDEX('Bottom Up (C)'!$A$80:$O$89,MATCH($B17,$B$12:$B$20,0),MATCH(N$7,'Bottom Up (C)'!$A$89:$O$89,1)+1)-INDEX('Bottom Up (C)'!$A$80:$O$89,MATCH($B17,$B$12:$B$20,0),MATCH(N$7,'Bottom Up (C)'!$A$89:$O$89,1)))+INDEX('Bottom Up (C)'!$A$80:$O$89,MATCH($B17,$B$12:$B$20,0),MATCH(N$7,'Bottom Up (C)'!$A$89:$O$89,1)) -> 26944444
B18: Common Options Y | D18: =(D$7-INDEX('Bottom Up (C)'!$A$80:$O$89,COUNTA($B$12:$B$20)+1,MATCH(D$7,'Bottom Up (C)'!$A$89:$O$89,1)))/(INDEX('Bottom Up (C)'!$A$80:$O$89,COUNTA($B$12:$B$20)+1,MATCH(D$7,'Bottom Up (C)'!$A$89:$O$89,1)+1)-INDEX('Bottom Up (C)'!$A$80:$O$89,COUNTA($B$12:$B$20)+1,MATCH(D$7,'Bottom Up (C)'!$A$89:$O$89,1)))*(INDEX('Bottom Up (C)'!$A$80:$O$89,MATCH($B18,$B$12:$B$20,0),MATCH(D$7,'Bottom Up (C)'!$A$89:$O$89,1)+1)-INDEX('Bottom Up (C)'!$A$80:$O$89,MATCH($B18,$B$12:$B$20,0),MATCH(D$7,'Bottom Up (C)'!$A$89:$O$89,1)))+INDEX('Bottom Up (C)'!$A$80:$O$89,MATCH($B18,$B$12:$B$20,0),MATCH(D$7,'Bottom Up (C)'!$A$89:$O$89,1)) -> 0 | E18: =(E$7-INDEX('Bottom Up (C)'!$A$80:$O$89,COUNTA($B$12:$B$20)+1,MATCH(E$7,'Bottom Up (C)'!$A$89:$O$89,1)))/(INDEX('Bottom Up (C)'!$A$80:$O$89,COUNTA($B$12:$B$20)+1,MATCH(E$7,'Bottom Up (C)'!$A$89:$O$89,1)+1)-INDEX('Bottom Up (C)'!$A$80:$O$89,COUNTA($B$12:$B$20)+1,MATCH(E$7,'Bottom Up (C)'!$A$89:$O$89,1)))*(INDEX('Bottom Up (C)'!$A$80:$O$89,MATCH($B18,$B$12:$B$20,0),MATCH(E$7,'Bottom Up (C)'!$A$89:$O$89,1)+1)-INDEX('Bottom Up (C)'!$A$80:$O$89,MATCH($B18,$B$12:$B$20,0),MATCH(E$7,'Bottom Up (C)'!$A$89:$O$89,1)))+INDEX('Bottom Up (C)'!$A$80:$O$89,MATCH($B18,$B$12:$B$20,0),MATCH(E$7,'Bottom Up (C)'!$A$89:$O$89,1)) -> 0 | F18: =(F$7-INDEX('Bottom Up (C)'!$A$80:$O$89,COUNTA($B$12:$B$20)+1,MATCH(F$7,'Bottom Up (C)'!$A$89:$O$89,1)))/(INDEX('Bottom Up (C)'!$A$80:$O$89,COUNTA($B$12:$B$20)+1,MATCH(F$7,'Bottom Up (C)'!$A$89:$O$89,1)+1)-INDEX('Bottom Up (C)'!$A$80:$O$89,COUNTA($B$12:$B$20)+1,MATCH(F$7,'Bottom Up (C)'!$A$89:$O$89,1)))*(INDEX('Bottom Up (C)'!$A$80:$O$89,MATCH($B18,$B$12:$B$20,0),MATCH(F$7,'Bottom Up (C)'!$A$89:$O$89,1)+1)-INDEX('Bottom Up (C)'!$A$80:$O$89,MATCH($B18,$B$12:$B$20,0),MATCH(F$7,'Bottom Up (C)'!$A$89:$O$89,1)))+INDEX('Bottom Up (C)'!$A$80:$O$89,MATCH($B18,$B$12:$B$20,0),MATCH(F$7,'Bottom Up (C)'!$A$89:$O$89,1)) -> 0 | G18: =(G$7-INDEX('Bottom Up (C)'!$A$80:$O$89,COUNTA($B$12:$B$20)+1,MATCH(G$7,'Bottom Up (C)'!$A$89:$O$89,1)))/(INDEX('Bottom Up (C)'!$A$80:$O$89,COUNTA($B$12:$B$20)+1,MATCH(G$7,'Bottom Up (C)'!$A$89:$O$89,1)+1)-INDEX('Bottom Up (C)'!$A$80:$O$89,COUNTA($B$12:$B$20)+1,MATCH(G$7,'Bottom Up (C)'!$A$89:$O$89,1)))*(INDEX('Bottom Up (C)'!$A$80:$O$89,MATCH($B18,$B$12:$B$20,0),MATCH(G$7,'Bottom Up (C)'!$A$89:$O$89,1)+1)-INDEX('Bottom Up (C)'!$A$80:$O$89,MATCH($B18,$B$12:$B$20,0),MATCH(G$7,'Bottom Up (C)'!$A$89:$O$89,1)))+INDEX('Bottom Up (C)'!$A$80:$O$89,MATCH($B18,$B$12:$B$20,0),MATCH(G$7,'Bottom Up (C)'!$A$89:$O$89,1)) -> 0 | H18: =(H$7-INDEX('Bottom Up (C)'!$A$80:$O$89,COUNTA($B$12:$B$20)+1,MATCH(H$7,'Bottom Up (C)'!$A$89:$O$89,1)))/(INDEX('Bottom Up (C)'!$A$80:$O$89,COUNTA($B$12:$B$20)+1,MATCH(H$7,'Bottom Up (C)'!$A$89:$O$89,1)+1)-INDEX('Bottom Up (C)'!$A$80:$O$89,COUNTA($B$12:$B$20)+1,MATCH(H$7,'Bottom Up (C)'!$A$89:$O$89,1)))*(INDEX('Bottom Up (C)'!$A$80:$O$89,MATCH($B18,$B$12:$B$20,0),MATCH(H$7,'Bottom Up (C)'!$A$89:$O$89,1)+1)-INDEX('Bottom Up (C)'!$A$80:$O$89,MATCH($B18,$B$12:$B$20,0),MATCH(H$7,'Bottom Up (C)'!$A$89:$O$89,1)))+INDEX('Bottom Up (C)'!$A$80:$O$89,MATCH($B18,$B$12:$B$20,0),MATCH(H$7,'Bottom Up (C)'!$A$89:$O$89,1)) -> 0 | I18: =(I$7-INDEX('Bottom Up (C)'!$A$80:$O$89,COUNTA($B$12:$B$20)+1,MATCH(I$7,'Bottom Up (C)'!$A$89:$O$89,1)))/(INDEX('Bottom Up (C)'!$A$80:$O$89,COUNTA($B$12:$B$20)+1,MATCH(I$7,'Bottom Up (C)'!$A$89:$O$89,1)+1)-INDEX('Bottom Up (C)'!$A$80:$O$89,COUNTA($B$12:$B$20)+1,MATCH(I$7,'Bottom Up (C)'!$A$89:$O$89,1)))*(INDEX('Bottom Up (C)'!$A$80:$O$89,MATCH($B18,$B$12:$B$20,0),MATCH(I$7,'Bottom Up (C)'!$A$89:$O$89,1)+1)-INDEX('Bottom Up (C)'!$A$80:$O$89,MATCH($B18,$B$12:$B$20,0),MATCH(I$7,'Bottom Up (C)'!$A$89:$O$89,1)))+INDEX('Bottom Up (C)'!$A$80:$O$89,MATCH($B18,$B$12:$B$20,0),MATCH(I$7,'Bottom Up (C)'!$A$89:$O$89,1)) -> 0 | J18: =(J$7-INDEX('Bottom Up (C)'!$A$80:$O$89,COUNTA($B$12:$B$20)+1,MATCH(J$7,'Bottom Up (C)'!$A$89:$O$89,1)))/(INDEX('Bottom Up (C)'!$A$80:$O$89,COUNTA($B$12:$B$20)+1,MATCH(J$7,'Bottom Up (C)'!$A$89:$O$89,1)+1)-INDEX('Bottom Up (C)'!$A$80:$O$89,COUNTA($B$12:$B$20)+1,MATCH(J$7,'Bottom Up (C)'!$A$89:$O$89,1)))*(INDEX('Bottom Up (C)'!$A$80:$O$89,MATCH($B18,$B$12:$B$20,0),MATCH(J$7,'Bottom Up (C)'!$A$89:$O$89,1)+1)-INDEX('Bottom Up (C)'!$A$80:$O$89,MATCH($B18,$B$12:$B$20,0),MATCH(J$7,'Bottom Up (C)'!$A$89:$O$89,1)))+INDEX('Bottom Up (C)'!$A$80:$O$89,MATCH($B18,$B$12:$B$20,0),MATCH(J$7,'Bottom Up (C)'!$A$89:$O$89,1)) -> 1000000 | K18: =(K$7-INDEX('Bottom Up (C)'!$A$80:$O$89,COUNTA($B$12:$B$20)+1,MATCH(K$7,'Bottom Up (C)'!$A$89:$O$89,1)))/(INDEX('Bottom Up (C)'!$A$80:$O$89,COUNTA($B$12:$B$20)+1,MATCH(K$7,'Bottom Up (C)'!$A$89:$O$89,1)+1)-INDEX('Bottom Up (C)'!$A$80:$O$89,COUNTA($B$12:$B$20)+1,MATCH(K$7,'Bottom Up (C)'!$A$89:$O$89,1)))*(INDEX('Bottom Up (C)'!$A$80:$O$89,MATCH($B18,$B$12:$B$20,0),MATCH(K$7,'Bottom Up (C)'!$A$89:$O$89,1)+1)-INDEX('Bottom Up (C)'!$A$80:$O$89,MATCH($B18,$B$12:$B$20,0),MATCH(K$7,'Bottom Up (C)'!$A$89:$O$89,1)))+INDEX('Bottom Up (C)'!$A$80:$O$89,MATCH($B18,$B$12:$B$20,0),MATCH(K$7,'Bottom Up (C)'!$A$89:$O$89,1)) -> 2000000 | ... N18: =(N$7-INDEX('Bottom Up (C)'!$A$80:$O$89,COUNTA($B$12:$B$20)+1,MATCH(N$7,'Bottom Up (C)'!$A$89:$O$89,1)))/(INDEX('Bottom Up (C)'!$A$80:$O$89,COUNTA($B$12:$B$20)+1,MATCH(N$7,'Bottom Up (C)'!$A$89:$O$89,1)+1)-INDEX('Bottom Up (C)'!$A$80:$O$89,COUNTA($B$12:$B$20)+1,MATCH(N$7,'Bottom Up (C)'!$A$89:$O$89,1)))*(INDEX('Bottom Up (C)'!$A$80:$O$89,MATCH($B18,$B$12:$B$20,0),MATCH(N$7,'Bottom Up (C)'!$A$89:$O$89,1)+1)-INDEX('Bottom Up (C)'!$A$80:$O$89,MATCH($B18,$B$12:$B$20,0),MATCH(N$7,'Bottom Up (C)'!$A$89:$O$89,1)))+INDEX('Bottom Up (C)'!$A$80:$O$89,MATCH($B18,$B$12:$B$20,0),MATCH(N$7,'Bottom Up (C)'!$A$89:$O$89,1)) -> 25944444
B19: Common Options X | D19: =(D$7-INDEX('Bottom Up (C)'!$A$80:$O$89,COUNTA($B$12:$B$20)+1,MATCH(D$7,'Bottom Up (C)'!$A$89:$O$89,1)))/(INDEX('Bottom Up (C)'!$A$80:$O$89,COUNTA($B$12:$B$20)+1,MATCH(D$7,'Bottom Up (C)'!$A$89:$O$89,1)+1)-INDEX('Bottom Up (C)'!$A$80:$O$89,COUNTA($B$12:$B$20)+1,MATCH(D$7,'Bottom Up (C)'!$A$89:$O$89,1)))*(INDEX('Bottom Up (C)'!$A$80:$O$89,MATCH($B19,$B$12:$B$20,0),MATCH(D$7,'Bottom Up (C)'!$A$89:$O$89,1)+1)-INDEX('Bottom Up (C)'!$A$80:$O$89,MATCH($B19,$B$12:$B$20,0),MATCH(D$7,'Bottom Up (C)'!$A$89:$O$89,1)))+INDEX('Bottom Up (C)'!$A$80:$O$89,MATCH($B19,$B$12:$B$20,0),MATCH(D$7,'Bottom Up (C)'!$A$89:$O$89,1)) -> 0 | E19: =(E$7-INDEX('Bottom Up (C)'!$A$80:$O$89,COUNTA($B$12:$B$20)+1,MATCH(E$7,'Bottom Up (C)'!$A$89:$O$89,1)))/(INDEX('Bottom Up (C)'!$A$80:$O$89,COUNTA($B$12:$B$20)+1,MATCH(E$7,'Bottom Up (C)'!$A$89:$O$89,1)+1)-INDEX('Bottom Up (C)'!$A$80:$O$89,COUNTA($B$12:$B$20)+1,MATCH(E$7,'Bottom Up (C)'!$A$89:$O$89,1)))*(INDEX('Bottom Up (C)'!$A$80:$O$89,MATCH($B19,$B$12:$B$20,0),MATCH(E$7,'Bottom Up (C)'!$A$89:$O$89,1)+1)-INDEX('Bottom Up (C)'!$A$80:$O$89,MATCH($B19,$B$12:$B$20,0),MATCH(E$7,'Bottom Up (C)'!$A$89:$O$89,1)))+INDEX('Bottom Up (C)'!$A$80:$O$89,MATCH($B19,$B$12:$B$20,0),MATCH(E$7,'Bottom Up (C)'!$A$89:$O$89,1)) -> 0 | F19: =(F$7-INDEX('Bottom Up (C)'!$A$80:$O$89,COUNTA($B$12:$B$20)+1,MATCH(F$7,'Bottom Up (C)'!$A$89:$O$89,1)))/(INDEX('Bottom Up (C)'!$A$80:$O$89,COUNTA($B$12:$B$20)+1,MATCH(F$7,'Bottom Up (C)'!$A$89:$O$89,1)+1)-INDEX('Bottom Up (C)'!$A$80:$O$89,COUNTA($B$12:$B$20)+1,MATCH(F$7,'Bottom Up (C)'!$A$89:$O$89,1)))*(INDEX('Bottom Up (C)'!$A$80:$O$89,MATCH($B19,$B$12:$B$20,0),MATCH(F$7,'Bottom Up (C)'!$A$89:$O$89,1)+1)-INDEX('Bottom Up (C)'!$A$80:$O$89,MATCH($B19,$B$12:$B$20,0),MATCH(F$7,'Bottom Up (C)'!$A$89:$O$89,1)))+INDEX('Bottom Up (C)'!$A$80:$O$89,MATCH($B19,$B$12:$B$20,0),MATCH(F$7,'Bottom Up (C)'!$A$89:$O$89,1)) -> 0 | G19: =(G$7-INDEX('Bottom Up (C)'!$A$80:$O$89,COUNTA($B$12:$B$20)+1,MATCH(G$7,'Bottom Up (C)'!$A$89:$O$89,1)))/(INDEX('Bottom Up (C)'!$A$80:$O$89,COUNTA($B$12:$B$20)+1,MATCH(G$7,'Bottom Up (C)'!$A$89:$O$89,1)+1)-INDEX('Bottom Up (C)'!$A$80:$O$89,COUNTA($B$12:$B$20)+1,MATCH(G$7,'Bottom Up (C)'!$A$89:$O$89,1)))*(INDEX('Bottom Up (C)'!$A$80:$O$89,MATCH($B19,$B$12:$B$20,0),MATCH(G$7,'Bottom Up (C)'!$A$89:$O$89,1)+1)-INDEX('Bottom Up (C)'!$A$80:$O$89,MATCH($B19,$B$12:$B$20,0),MATCH(G$7,'Bottom Up (C)'!$A$89:$O$89,1)))+INDEX('Bottom Up (C)'!$A$80:$O$89,MATCH($B19,$B$12:$B$20,0),MATCH(G$7,'Bottom Up (C)'!$A$89:$O$89,1)) -> 0 | H19: =(H$7-INDEX('Bottom Up (C)'!$A$80:$O$89,COUNTA($B$12:$B$20)+1,MATCH(H$7,'Bottom Up (C)'!$A$89:$O$89,1)))/(INDEX('Bottom Up (C)'!$A$80:$O$89,COUNTA($B$12:$B$20)+1,MATCH(H$7,'Bottom Up (C)'!$A$89:$O$89,1)+1)-INDEX('Bottom Up (C)'!$A$80:$O$89,COUNTA($B$12:$B$20)+1,MATCH(H$7,'Bottom Up (C)'!$A$89:$O$89,1)))*(INDEX('Bottom Up (C)'!$A$80:$O$89,MATCH($B19,$B$12:$B$20,0),MATCH(H$7,'Bottom Up (C)'!$A$89:$O$89,1)+1)-INDEX('Bottom Up (C)'!$A$80:$O$89,MATCH($B19,$B$12:$B$20,0),MATCH(H$7,'Bottom Up (C)'!$A$89:$O$89,1)))+INDEX('Bottom Up (C)'!$A$80:$O$89,MATCH($B19,$B$12:$B$20,0),MATCH(H$7,'Bottom Up (C)'!$A$89:$O$89,1)) -> 0 | I19: =(I$7-INDEX('Bottom Up (C)'!$A$80:$O$89,COUNTA($B$12:$B$20)+1,MATCH(I$7,'Bottom Up (C)'!$A$89:$O$89,1)))/(INDEX('Bottom Up (C)'!$A$80:$O$89,COUNTA($B$12:$B$20)+1,MATCH(I$7,'Bottom Up (C)'!$A$89:$O$89,1)+1)-INDEX('Bottom Up (C)'!$A$80:$O$89,COUNTA($B$12:$B$20)+1,MATCH(I$7,'Bottom Up (C)'!$A$89:$O$89,1)))*(INDEX('Bottom Up (C)'!$A$80:$O$89,MATCH($B19,$B$12:$B$20,0),MATCH(I$7,'Bottom Up (C)'!$A$89:$O$89,1)+1)-INDEX('Bottom Up (C)'!$A$80:$O$89,MATCH($B19,$B$12:$B$20,0),MATCH(I$7,'Bottom Up (C)'!$A$89:$O$89,1)))+INDEX('Bottom Up (C)'!$A$80:$O$89,MATCH($B19,$B$12:$B$20,0),MATCH(I$7,'Bottom Up (C)'!$A$89:$O$89,1)) -> 0 | J19: =(J$7-INDEX('Bottom Up (C)'!$A$80:$O$89,COUNTA($B$12:$B$20)+1,MATCH(J$7,'Bottom Up (C)'!$A$89:$O$89,1)))/(INDEX('Bottom Up (C)'!$A$80:$O$89,COUNTA($B$12:$B$20)+1,MATCH(J$7,'Bottom Up (C)'!$A$89:$O$89,1)+1)-INDEX('Bottom Up (C)'!$A$80:$O$89,COUNTA($B$12:$B$20)+1,MATCH(J$7,'Bottom Up (C)'!$A$89:$O$89,1)))*(INDEX('Bottom Up (C)'!$A$80:$O$89,MATCH($B19,$B$12:$B$20,0),MATCH(J$7,'Bottom Up (C)'!$A$89:$O$89,1)+1)-INDEX('Bottom Up (C)'!$A$80:$O$89,MATCH($B19,$B$12:$B$20,0),MATCH(J$7,'Bottom Up (C)'!$A$89:$O$89,1)))+INDEX('Bottom Up (C)'!$A$80:$O$89,MATCH($B19,$B$12:$B$20,0),MATCH(J$7,'Bottom Up (C)'!$A$89:$O$89,1)) -> 0 | K19: =(K$7-INDEX('Bottom Up (C)'!$A$80:$O$89,COUNTA($B$12:$B$20)+1,MATCH(K$7,'Bottom Up (C)'!$A$89:$O$89,1)))/(INDEX('Bottom Up (C)'!$A$80:$O$89,COUNTA($B$12:$B$20)+1,MATCH(K$7,'Bottom Up (C)'!$A$89:$O$89,1)+1)-INDEX('Bottom Up (C)'!$A$80:$O$89,COUNTA($B$12:$B$20)+1,MATCH(K$7,'Bottom Up (C)'!$A$89:$O$89,1)))*(INDEX('Bottom Up (C)'!$A$80:$O$89,MATCH($B19,$B$12:$B$20,0),MATCH(K$7,'Bottom Up (C)'!$A$89:$O$89,1)+1)-INDEX('Bottom Up (C)'!$A$80:$O$89,MATCH($B19,$B$12:$B$20,0),MATCH(K$7,'Bottom Up (C)'!$A$89:$O$89,1)))+INDEX('Bottom Up (C)'!$A$80:$O$89,MATCH($B19,$B$12:$B$20,0),MATCH(K$7,'Bottom Up (C)'!$A$89:$O$89,1)) -> 1000000 | ... N19: =(N$7-INDEX('Bottom Up (C)'!$A$80:$O$89,COUNTA($B$12:$B$20)+1,MATCH(N$7,'Bottom Up (C)'!$A$89:$O$89,1)))/(INDEX('Bottom Up (C)'!$A$80:$O$89,COUNTA($B$12:$B$20)+1,MATCH(N$7,'Bottom Up (C)'!$A$89:$O$89,1)+1)-INDEX('Bottom Up (C)'!$A$80:$O$89,COUNTA($B$12:$B$20)+1,MATCH(N$7,'Bottom Up (C)'!$A$89:$O$89,1)))*(INDEX('Bottom Up (C)'!$A$80:$O$89,MATCH($B19,$B$12:$B$20,0),MATCH(N$7,'Bottom Up (C)'!$A$89:$O$89,1)+1)-INDEX('Bottom Up (C)'!$A$80:$O$89,MATCH($B19,$B$12:$B$20,0),MATCH(N$7,'Bottom Up (C)'!$A$89:$O$89,1)))+INDEX('Bottom Up (C)'!$A$80:$O$89,MATCH($B19,$B$12:$B$20,0),MATCH(N$7,'Bottom Up (C)'!$A$89:$O$89,1)) -> 24944444
B20: Common Options R | D20: =(D$7-INDEX('Bottom Up (C)'!$A$80:$O$89,COUNTA($B$12:$B$20)+1,MATCH(D$7,'Bottom Up (C)'!$A$89:$O$89,1)))/(INDEX('Bottom Up (C)'!$A$80:$O$89,COUNTA($B$12:$B$20)+1,MATCH(D$7,'Bottom Up (C)'!$A$89:$O$89,1)+1)-INDEX('Bottom Up (C)'!$A$80:$O$89,COUNTA($B$12:$B$20)+1,MATCH(D$7,'Bottom Up (C)'!$A$89:$O$89,1)))*(INDEX('Bottom Up (C)'!$A$80:$O$89,MATCH($B20,$B$12:$B$20,0),MATCH(D$7,'Bottom Up (C)'!$A$89:$O$89,1)+1)-INDEX('Bottom Up (C)'!$A$80:$O$89,MATCH($B20,$B$12:$B$20,0),MATCH(D$7,'Bottom Up (C)'!$A$89:$O$89,1)))+INDEX('Bottom Up (C)'!$A$80:$O$89,MATCH($B20,$B$12:$B$20,0),MATCH(D$7,'Bottom Up (C)'!$A$89:$O$89,1)) -> 0 | E20: =(E$7-INDEX('Bottom Up (C)'!$A$80:$O$89,COUNTA($B$12:$B$20)+1,MATCH(E$7,'Bottom Up (C)'!$A$89:$O$89,1)))/(INDEX('Bottom Up (C)'!$A$80:$O$89,COUNTA($B$12:$B$20)+1,MATCH(E$7,'Bottom Up (C)'!$A$89:$O$89,1)+1)-INDEX('Bottom Up (C)'!$A$80:$O$89,COUNTA($B$12:$B$20)+1,MATCH(E$7,'Bottom Up (C)'!$A$89:$O$89,1)))*(INDEX('Bottom Up (C)'!$A$80:$O$89,MATCH($B20,$B$12:$B$20,0),MATCH(E$7,'Bottom Up (C)'!$A$89:$O$89,1)+1)-INDEX('Bottom Up (C)'!$A$80:$O$89,MATCH($B20,$B$12:$B$20,0),MATCH(E$7,'Bottom Up (C)'!$A$89:$O$89,1)))+INDEX('Bottom Up (C)'!$A$80:$O$89,MATCH($B20,$B$12:$B$20,0),MATCH(E$7,'Bottom Up (C)'!$A$89:$O$89,1)) -> 0 | F20: =(F$7-INDEX('Bottom Up (C)'!$A$80:$O$89,COUNTA($B$12:$B$20)+1,MATCH(F$7,'Bottom Up (C)'!$A$89:$O$89,1)))/(INDEX('Bottom Up (C)'!$A$80:$O$89,COUNTA($B$12:$B$20)+1,MATCH(F$7,'Bottom Up (C)'!$A$89:$O$89,1)+1)-INDEX('Bottom Up (C)'!$A$80:$O$89,COUNTA($B$12:$B$20)+1,MATCH(F$7,'Bottom Up (C)'!$A$89:$O$89,1)))*(INDEX('Bottom Up (C)'!$A$80:$O$89,MATCH($B20,$B$12:$B$20,0),MATCH(F$7,'Bottom Up (C)'!$A$89:$O$89,1)+1)-INDEX('Bottom Up (C)'!$A$80:$O$89,MATCH($B20,$B$12:$B$20,0),MATCH(F$7,'Bottom Up (C)'!$A$89:$O$89,1)))+INDEX('Bottom Up (C)'!$A$80:$O$89,MATCH($B20,$B$12:$B$20,0),MATCH(F$7,'Bottom Up (C)'!$A$89:$O$89,1)) -> 0 | G20: =(G$7-INDEX('Bottom Up (C)'!$A$80:$O$89,COUNTA($B$12:$B$20)+1,MATCH(G$7,'Bottom Up (C)'!$A$89:$O$89,1)))/(INDEX('Bottom Up (C)'!$A$80:$O$89,COUNTA($B$12:$B$20)+1,MATCH(G$7,'Bottom Up (C)'!$A$89:$O$89,1)+1)-INDEX('Bottom Up (C)'!$A$80:$O$89,COUNTA($B$12:$B$20)+1,MATCH(G$7,'Bottom Up (C)'!$A$89:$O$89,1)))*(INDEX('Bottom Up (C)'!$A$80:$O$89,MATCH($B20,$B$12:$B$20,0),MATCH(G$7,'Bottom Up (C)'!$A$89:$O$89,1)+1)-INDEX('Bottom Up (C)'!$A$80:$O$89,MATCH($B20,$B$12:$B$20,0),MATCH(G$7,'Bottom Up (C)'!$A$89:$O$89,1)))+INDEX('Bottom Up (C)'!$A$80:$O$89,MATCH($B20,$B$12:$B$20,0),MATCH(G$7,'Bottom Up (C)'!$A$89:$O$89,1)) -> 0 | H20: =(H$7-INDEX('Bottom Up (C)'!$A$80:$O$89,COUNTA($B$12:$B$20)+1,MATCH(H$7,'Bottom Up (C)'!$A$89:$O$89,1)))/(INDEX('Bottom Up (C)'!$A$80:$O$89,COUNTA($B$12:$B$20)+1,MATCH(H$7,'Bottom Up (C)'!$A$89:$O$89,1)+1)-INDEX('Bottom Up (C)'!$A$80:$O$89,COUNTA($B$12:$B$20)+1,MATCH(H$7,'Bottom Up (C)'!$A$89:$O$89,1)))*(INDEX('Bottom Up (C)'!$A$80:$O$89,MATCH($B20,$B$12:$B$20,0),MATCH(H$7,'Bottom Up (C)'!$A$89:$O$89,1)+1)-INDEX('Bottom Up (C)'!$A$80:$O$89,MATCH($B20,$B$12:$B$20,0),MATCH(H$7,'Bottom Up (C)'!$A$89:$O$89,1)))+INDEX('Bottom Up (C)'!$A$80:$O$89,MATCH($B20,$B$12:$B$20,0),MATCH(H$7,'Bottom Up (C)'!$A$89:$O$89,1)) -> 0 | I20: =(I$7-INDEX('Bottom Up (C)'!$A$80:$O$89,COUNTA($B$12:$B$20)+1,MATCH(I$7,'Bottom Up (C)'!$A$89:$O$89,1)))/(INDEX('Bottom Up (C)'!$A$80:$O$89,COUNTA($B$12:$B$20)+1,MATCH(I$7,'Bottom Up (C)'!$A$89:$O$89,1)+1)-INDEX('Bottom Up (C)'!$A$80:$O$89,COUNTA($B$12:$B$20)+1,MATCH(I$7,'Bottom Up (C)'!$A$89:$O$89,1)))*(INDEX('Bottom Up (C)'!$A$80:$O$89,MATCH($B20,$B$12:$B$20,0),MATCH(I$7,'Bottom Up (C)'!$A$89:$O$89,1)+1)-INDEX('Bottom Up (C)'!$A$80:$O$89,MATCH($B20,$B$12:$B$20,0),MATCH(I$7,'Bottom Up (C)'!$A$89:$O$89,1)))+INDEX('Bottom Up (C)'!$A$80:$O$89,MATCH($B20,$B$12:$B$20,0),MATCH(I$7,'Bottom Up (C)'!$A$89:$O$89,1)) -> 0 | J20: =(J$7-INDEX('Bottom Up (C)'!$A$80:$O$89,COUNTA($B$12:$B$20)+1,MATCH(J$7,'Bottom Up (C)'!$A$89:$O$89,1)))/(INDEX('Bottom Up (C)'!$A$80:$O$89,COUNTA($B$12:$B$20)+1,MATCH(J$7,'Bottom Up (C)'!$A$89:$O$89,1)+1)-INDEX('Bottom Up (C)'!$A$80:$O$89,COUNTA($B$12:$B$20)+1,MATCH(J$7,'Bottom Up (C)'!$A$89:$O$89,1)))*(INDEX('Bottom Up (C)'!$A$80:$O$89,MATCH($B20,$B$12:$B$20,0),MATCH(J$7,'Bottom Up (C)'!$A$89:$O$89,1)+1)-INDEX('Bottom Up (C)'!$A$80:$O$89,MATCH($B20,$B$12:$B$20,0),MATCH(J$7,'Bottom Up (C)'!$A$89:$O$89,1)))+INDEX('Bottom Up (C)'!$A$80:$O$89,MATCH($B20,$B$12:$B$20,0),MATCH(J$7,'Bottom Up (C)'!$A$89:$O$89,1)) -> 0 | K20: =(K$7-INDEX('Bottom Up (C)'!$A$80:$O$89,COUNTA($B$12:$B$20)+1,MATCH(K$7,'Bottom Up (C)'!$A$89:$O$89,1)))/(INDEX('Bottom Up (C)'!$A$80:$O$89,COUNTA($B$12:$B$20)+1,MATCH(K$7,'Bottom Up (C)'!$A$89:$O$89,1)+1)-INDEX('Bottom Up (C)'!$A$80:$O$89,COUNTA($B$12:$B$20)+1,MATCH(K$7,'Bottom Up (C)'!$A$89:$O$89,1)))*(INDEX('Bottom Up (C)'!$A$80:$O$89,MATCH($B20,$B$12:$B$20,0),MATCH(K$7,'Bottom Up (C)'!$A$89:$O$89,1)+1)-INDEX('Bottom Up (C)'!$A$80:$O$89,MATCH($B20,$B$12:$B$20,0),MATCH(K$7,'Bottom Up (C)'!$A$89:$O$89,1)))+INDEX('Bottom Up (C)'!$A$80:$O$89,MATCH($B20,$B$12:$B$20,0),MATCH(K$7,'Bottom Up (C)'!$A$89:$O$89,1)) -> 0 | ... N20: =(N$7-INDEX('Bottom Up (C)'!$A$80:$O$89,COUNTA($B$12:$B$20)+1,MATCH(N$7,'Bottom Up (C)'!$A$89:$O$89,1)))/(INDEX('Bottom Up (C)'!$A$80:$O$89,COUNTA($B$12:$B$20)+1,MATCH(N$7,'Bottom Up (C)'!$A$89:$O$89,1)+1)-INDEX('Bottom Up (C)'!$A$80:$O$89,COUNTA($B$12:$B$20)+1,MATCH(N$7,'Bottom Up (C)'!$A$89:$O$89,1)))*(INDEX('Bottom Up (C)'!$A$80:$O$89,MATCH($B20,$B$12:$B$20,0),MATCH(N$7,'Bottom Up (C)'!$A$89:$O$89,1)+1)-INDEX('Bottom Up (C)'!$A$80:$O$89,MATCH($B20,$B$12:$B$20,0),MATCH(N$7,'Bottom Up (C)'!$A$89:$O$89,1)))+INDEX('Bottom Up (C)'!$A$80:$O$89,MATCH($B20,$B$12:$B$20,0),MATCH(N$7,'Bottom Up (C)'!$A$89:$O$89,1)) -> 35888889
B21: Total | C21: =SUM(C13:C20) -> 0 | D21: =SUM(D13:D20) -> 0 | E21: =SUM(E13:E20) -> 60000000 | F21: =SUM(F13:F20) -> 75000000 | G21: =SUM(G13:G20) -> 80000000 | H21: =SUM(H13:H20) -> 95000000 | I21: =SUM(I13:I20) -> 116000000 | J21: =SUM(J13:J20) -> 138000000 | ... N21: =SUM(N13:N20) -> 9.8e+08
B23: Proceeds /Share:
B24: (placeholder)
B25: Series C | D25: =IFERROR(D13/D36,0) -> 0 | E25: =IFERROR(E13/E36,0) -> 20 | F25: =IFERROR(F13/F36,0) -> 20 | G25: =IFERROR(G13/G36,0) -> 20 | H25: =IFERROR(H13/H36,0) -> 20 | I25: =IFERROR(I13/I36,0) -> 20 | J25: =IFERROR(J13/J36,0) -> 20 | K25: =IFERROR(K13/K36,0) -> 20 | ... N25: =IFERROR(N13/N36,0) -> 55.888889
B26: Series B | D26: =IFERROR(D14/D37,0) -> 0 | E26: =IFERROR(E14/E37,0) -> 0 | F26: =IFERROR(F14/F37,0) -> 6 | G26: =IFERROR(G14/G37,0) -> 6 | H26: =IFERROR(H14/H37,0) -> 6 | I26: =IFERROR(I14/I37,0) -> 6 | J26: =IFERROR(J14/J37,0) -> 6 | K26: =IFERROR(K14/K37,0) -> 8 | ... N26: =IFERROR(N14/N37,0) -> 55.888889
B27: Series A | D27: =IFERROR(D15/D38,0) -> 0 | E27: =IFERROR(E15/E38,0) -> 0 | F27: =IFERROR(F15/F38,0) -> 0 | G27: =IFERROR(G15/G38,0) -> 2 | H27: =IFERROR(H15/H38,0) -> 2 | I27: =IFERROR(I15/I38,0) -> 4 | J27: =IFERROR(J15/J38,0) -> 6 | K27: =IFERROR(K15/K38,0) -> 8 | ... N27: =IFERROR(N15/N38,0) -> 55.888889
B28: Common | D28: =IFERROR(D16/D39,0) -> 0 | E28: =IFERROR(E16/E39,0) -> 0 | F28: =IFERROR(F16/F39,0) -> 0 | G28: =IFERROR(G16/G39,0) -> 0 | H28: =IFERROR(H16/H39,0) -> 2 | I28: =IFERROR(I16/I39,0) -> 4 | J28: =IFERROR(J16/J39,0) -> 6 | K28: =IFERROR(K16/K39,0) -> 8 | ... N28: =IFERROR(N16/N39,0) -> 55.888889
B29: Common Options Z | D29: =IFERROR(D17/D40,0) -> 0 | E29: =IFERROR(E17/E40,0) -> 0 | F29: =IFERROR(F17/F40,0) -> 0 | G29: =IFERROR(G17/G40,0) -> 0 | H29: =IFERROR(H17/H40,0) -> 0 | I29: =IFERROR(I17/I40,0) -> 2 | J29: =IFERROR(J17/J40,0) -> 4 | K29: =IFERROR(K17/K40,0) -> 6 | ... N29: =IFERROR(N17/N40,0) -> 53.888889
B30: Common Options Y | D30: =IFERROR(D18/D41,0) -> 0 | E30: =IFERROR(E18/E41,0) -> 0 | F30: =IFERROR(F18/F41,0) -> 0 | G30: =IFERROR(G18/G41,0) -> 0 | H30: =IFERROR(H18/H41,0) -> 0 | I30: =IFERROR(I18/I41,0) -> 0 | J30: =IFERROR(J18/J41,0) -> 2 | K30: =IFERROR(K18/K41,0) -> 4 | ... N30: =IFERROR(N18/N41,0) -> 51.888889
B31: Common Options X | D31: =IFERROR(D19/D42,0) -> 0 | E31: =IFERROR(E19/E42,0) -> 0 | F31: =IFERROR(F19/F42,0) -> 0 | G31: =IFERROR(G19/G42,0) -> 0 | H31: =IFERROR(H19/H42,0) -> 0 | I31: =IFERROR(I19/I42,0) -> 0 | J31: =IFERROR(J19/J42,0) -> 0 | K31: =IFERROR(K19/K42,0) -> 2 | ... N31: =IFERROR(N19/N42,0) -> 49.888889
B32: Common Options R | D32: =IFERROR(D20/D43,0) -> 0 | E32: =IFERROR(E20/E43,0) -> 0 | F32: =IFERROR(F20/F43,0) -> 0 | G32: =IFERROR(G20/G43,0) -> 0 | H32: =IFERROR(H20/H43,0) -> 0 | I32: =IFERROR(I20/I43,0) -> 0 | J32: =IFERROR(J20/J43,0) -> 0 | K32: =IFERROR(K20/K43,0) -> 0 | ... N32: =IFERROR(N20/N43,0) -> 35.888889
B34: Shares Outstanding:
B35: (placeholder)
B36: Series C | D36: =INDEX('Bottom Up (C)'!$A$93:$O$102,MATCH($B25,$B$24:$B$32,0),MATCH(D$7,'Bottom Up (C)'!$A$90:$O$90,1)) -> 3000000 | E36: =INDEX('Bottom Up (C)'!$A$93:$O$102,MATCH($B25,$B$24:$B$32,0),MATCH(E$7,'Bottom Up (C)'!$A$90:$O$90,1)) -> 3000000 | F36: =INDEX('Bottom Up (C)'!$A$93:$O$102,MATCH($B25,$B$24:$B$32,0),MATCH(F$7,'Bottom Up (C)'!$A$90:$O$90,1)) -> 3000000 | G36: =INDEX('Bottom Up (C)'!$A$93:$O$102,MATCH($B25,$B$24:$B$32,0),MATCH(G$7,'Bottom Up (C)'!$A$90:$O$90,1)) -> 3000000 | H36: =INDEX('Bottom Up (C)'!$A$93:$O$102,MATCH($B25,$B$24:$B$32,0),MATCH(H$7,'Bottom Up (C)'!$A$90:$O$90,1)) -> 3000000 | I36: =INDEX('Bottom Up (C)'!$A$93:$O$102,MATCH($B25,$B$24:$B$32,0),MATCH(I$7,'Bottom Up (C)'!$A$90:$O$90,1)) -> 3000000 | J36: =INDEX('Bottom Up (C)'!$A$93:$O$102,MATCH($B25,$B$24:$B$32,0),MATCH(J$7,'Bottom Up (C)'!$A$90:$O$90,1)) -> 3000000 | K36: =INDEX('Bottom Up (C)'!$A$93:$O$102,MATCH($B25,$B$24:$B$32,0),MATCH(K$7,'Bottom Up (C)'!$A$90:$O$90,1)) -> 3000000 | ... N36: =INDEX('Bottom Up (C)'!$A$93:$O$102,MATCH($B25,$B$24:$B$32,0),MATCH(N$7,'Bottom Up (C)'!$A$90:$O$90,1)) -> 3000000
B37: Series B | D37: =INDEX('Bottom Up (C)'!$A$93:$O$102,MATCH($B26,$B$24:$B$32,0),MATCH(D$7,'Bottom Up (C)'!$A$90:$O$90,1)) -> 2500000 | E37: =INDEX('Bottom Up (C)'!$A$93:$O$102,MATCH($B26,$B$24:$B$32,0),MATCH(E$7,'Bottom Up (C)'!$A$90:$O$90,1)) -> 2500000 | F37: =INDEX('Bottom Up (C)'!$A$93:$O$102,MATCH($B26,$B$24:$B$32,0),MATCH(F$7,'Bottom Up (C)'!$A$90:$O$90,1)) -> 2500000 | G37: =INDEX('Bottom Up (C)'!$A$93:$O$102,MATCH($B26,$B$24:$B$32,0),MATCH(G$7,'Bottom Up (C)'!$A$90:$O$90,1)) -> 2500000 | H37: =INDEX('Bottom Up (C)'!$A$93:$O$102,MATCH($B26,$B$24:$B$32,0),MATCH(H$7,'Bottom Up (C)'!$A$90:$O$90,1)) -> 2500000 | I37: =INDEX('Bottom Up (C)'!$A$93:$O$102,MATCH($B26,$B$24:$B$32,0),MATCH(I$7,'Bottom Up (C)'!$A$90:$O$90,1)) -> 2500000 | J37: =INDEX('Bottom Up (C)'!$A$93:$O$102,MATCH($B26,$B$24:$B$32,0),MATCH(J$7,'Bottom Up (C)'!$A$90:$O$90,1)) -> 2500000 | K37: =INDEX('Bottom Up (C)'!$A$93:$O$102,MATCH($B26,$B$24:$B$32,0),MATCH(K$7,'Bottom Up (C)'!$A$90:$O$90,1)) -> 2500000 | ... N37: =INDEX('Bottom Up (C)'!$A$93:$O$102,MATCH($B26,$B$24:$B$32,0),MATCH(N$7,'Bottom Up (C)'!$A$90:$O$90,1)) -> 2500000
B38: Series A | D38: =INDEX('Bottom Up (C)'!$A$93:$O$102,MATCH($B27,$B$24:$B$32,0),MATCH(D$7,'Bottom Up (C)'!$A$90:$O$90,1)) -> 2500000 | E38: =INDEX('Bottom Up (C)'!$A$93:$O$102,MATCH($B27,$B$24:$B$32,0),MATCH(E$7,'Bottom Up (C)'!$A$90:$O$90,1)) -> 2500000 | F38: =INDEX('Bottom Up (C)'!$A$93:$O$102,MATCH($B27,$B$24:$B$32,0),MATCH(F$7,'Bottom Up (C)'!$A$90:$O$90,1)) -> 2500000 | G38: =INDEX('Bottom Up (C)'!$A$93:$O$102,MATCH($B27,$B$24:$B$32,0),MATCH(G$7,'Bottom Up (C)'!$A$90:$O$90,1)) -> 2500000 | H38: =INDEX('Bottom Up (C)'!$A$93:$O$102,MATCH($B27,$B$24:$B$32,0),MATCH(H$7,'Bottom Up (C)'!$A$90:$O$90,1)) -> 2500000 | I38: =INDEX('Bottom Up (C)'!$A$93:$O$102,MATCH($B27,$B$24:$B$32,0),MATCH(I$7,'Bottom Up (C)'!$A$90:$O$90,1)) -> 2500000 | J38: =INDEX('Bottom Up (C)'!$A$93:$O$102,MATCH($B27,$B$24:$B$32,0),MATCH(J$7,'Bottom Up (C)'!$A$90:$O$90,1)) -> 2500000 | K38: =INDEX('Bottom Up (C)'!$A$93:$O$102,MATCH($B27,$B$24:$B$32,0),MATCH(K$7,'Bottom Up (C)'!$A$90:$O$90,1)) -> 2500000 | ... N38: =INDEX('Bottom Up (C)'!$A$93:$O$102,MATCH($B27,$B$24:$B$32,0),MATCH(N$7,'Bottom Up (C)'!$A$90:$O$90,1)) -> 2500000
